BEGIN:VCALENDAR
VERSION:2.0
PRODID:-//ChamberMaster//Event Calendar 2.0//EN
METHOD:PUBLISH
X-PUBLISHED-TTL:P3D
REFRESH-INTERVAL:P3D
CALSCALE:GREGORIAN
BEGIN:VEVENT
DTSTART:20200615T180000Z
DTEND:20200615T190000Z
X-MICROSOFT-CDO-ALLDAYEVENT:FALSE
SUMMARY:Zoom with the Westford Delegation
DESCRIPTION:Join the Greater Lowell\, Nashoba Valley and Middlesex West Chambers of Commerce for a Zoom meeting featuring Westford Town Manager Jodi Ross\, State Representative James Arciero and State Senator Edward Kennedy.\n\n\n\nThis is a great opportunity to hear from Westford's municipal and state leaders as they walk us through experiences during the COVID-19 crisis and answer your questions about the programs and resources available for businesses and individuals.\n\n\n\nThis event is open to ANYONE in the community who is interested.
X-ALT-DESC;FMTTYPE=text/html:<span style="color: rgb(68\, 68\, 68)\; font-family: Arial\, Helvetica\, sans-serif\; font-size: 14px\;">Join the Greater Lowell\, Nashoba Valley and Middlesex West Chambers of Commerce for a Zoom meeting featuring Westford Town Manager Jodi Ross\, State Representative James Arciero and State Senator Edward Kennedy.<br />\n<br />\nThis is a great opportunity to hear from Westford&#39\;s municipal and state leaders as they walk us through experiences during the COVID-19 crisis and answer your questions about the programs and resources available for businesses and individuals.</span><br />\n<br />\n<span style="color: rgb(68\, 68\, 68)\; font-family: Arial\, Helvetica\, sans-serif\; font-size: 14px\;">This event is open to ANYONE in the community who is interested.&nbsp\;</span>
LOCATION:2020 Platinum Sponsors: Enterprise Bank\, Circle Health\, Jeanne D'Arc Credit Union Gold Sponsors: Lockton Companies\, Align Credit Union\, EMD Serono\, Lowell Five Bank\, UniCare\, Lahey Hospital & Medical Center Premier Members: LAER Realty Partners - Debora Forgione\, Joyce Contract Interiors\, United Dental\, Town of Billerica\, Power of Flowers Project\, Lowell Community Health Center\, Joanne Dennison - The Guidance Counselor for Grown Ups\, Marshall's Autobody Experts\, New England Medical Insurance Agency\, Town of Chelmsford\, Salem Five\, Gravity Fitness
UID:e.554.4563
SEQUENCE:3
DTSTAMP:20260419T155301Z
URL:https://business.greaterlowellcc.org/events/details/zoom-with-the-westford-delegation-4563
END:VEVENT

END:VCALENDAR
