BEGIN:VCALENDAR
VERSION:2.0
PRODID:-//ChamberMaster//Event Calendar 2.0//EN
METHOD:PUBLISH
X-PUBLISHED-TTL:P3D
REFRESH-INTERVAL:P3D
CALSCALE:GREGORIAN
BEGIN:VEVENT
DTSTART:20200417T180000Z
DTEND:20200417T190000Z
X-MICROSOFT-CDO-ALLDAYEVENT:FALSE
SUMMARY:Zoom with Congresswoman Lori Trahan
DESCRIPTION:Presented in partnership with the Middlesex 3 Coalition and the City of Lowell.\n\n\n\nJoin us for a Zoom with Congresswoman Lori Trahan. Congresswoman Trahan will discuss what's being done in Washington DC for businesses and organizations during the COVID-19 Crisis and answer any questions that you have.\n\n\n\nLimited to 100 people (recording will be available at a later date).\n\n\n\nThis event is open to ANYONE in the community who is interested. Please invite your friends to attend on Facebook.
X-ALT-DESC;FMTTYPE=text/html:<em>Presented in partnership with the Middlesex 3 Coalition and the City of Lowell.</em><br />\n<br />\nJoin us for a Zoom with <a href="https://trahan.house.gov/">Congresswoman Lori Trahan</a>. Congresswoman Trahan will discuss what&#39\;s being done in Washington DC for businesses and organizations during the COVID-19 Crisis and answer any questions that you have.<br />\n<br />\n<strong>Limited to 100 people (recording will be available at a later date).</strong><br />\n<br />\nThis event is open to ANYONE in the community who is interested. <a href="https://www.facebook.com/events/656533085138208/">Please invite your friends to attend on Facebook.</a>
LOCATION:
UID:e.554.4496
SEQUENCE:3
DTSTAMP:20260419T174531Z
URL:https://business.greaterlowellcc.org/events/details/zoom-with-congresswoman-lori-trahan-4496
END:VEVENT

END:VCALENDAR
