BEGIN:VCALENDAR
VERSION:2.0
PRODID:-//ChamberMaster//Event Calendar 2.0//EN
METHOD:PUBLISH
X-PUBLISHED-TTL:P3D
REFRESH-INTERVAL:P3D
CALSCALE:GREGORIAN
BEGIN:VEVENT
DTSTART:20200427T151500Z
DTEND:20200427T161500Z
X-MICROSOFT-CDO-ALLDAYEVENT:FALSE
SUMMARY:Zoom Out Loud Session
DESCRIPTION:We are taking our popular Out Loud Sessions and making them virtual!\n\n\n\nJoin Joanne Dennison\, the Guidance Councilor for Grown Ups\, for some virtual crowdsourcing - Greater Lowell Chamber style! Come with a question and let Joanne and the attendees offer some ideas or solutions. Don't have a question? We guarantee you'll still leave the session with a couple of golden nuggets (we always do!). \n\n\n\nThese sessions are limited to 10 people so please register if you want to attend!\n\n\n\n(Check out Joanne's YouTube Channel here!)
X-ALT-DESC;FMTTYPE=text/html:We are taking our popular Out Loud Sessions and making them virtual!<br />\n<br />\nJoin Joanne Dennison\, the Guidance Councilor for Grown Ups\, for some virtual crowdsourcing - Greater Lowell Chamber style! Come with a question and let Joanne and the attendees offer some ideas or solutions. Don&#39\;t have a question? We guarantee you&#39\;ll still leave the session with a couple of golden nuggets (we always do!).&nbsp\;<br />\n<br />\nThese sessions are limited to 10 people so please register if you want to attend!<br />\n<br />\n(<a href="https://www.youtube.com/channel/UCDB2owsmrWcD3q7hOhNWkRg">Check out Joanne&#39\;s YouTube Channel here!</a>)
LOCATION:
UID:e.554.4507
SEQUENCE:3
DTSTAMP:20260419T191113Z
URL:https://business.greaterlowellcc.org/events/details/zoom-out-loud-session-4507
END:VEVENT

END:VCALENDAR
