BEGIN:VCALENDAR
VERSION:2.0
PRODID:-//ChamberMaster//Event Calendar 2.0//EN
METHOD:PUBLISH
X-PUBLISHED-TTL:P3D
REFRESH-INTERVAL:P3D
CALSCALE:GREGORIAN
BEGIN:VEVENT
DTSTART:20200506T200000Z
DTEND:20200506T210000Z
X-MICROSOFT-CDO-ALLDAYEVENT:FALSE
SUMMARY:Zoom Chat with the Boys and Girls Club of Greater Lowell
DESCRIPTION:Join the Boys and Girls Club of Greater Lowell for a live Zoom chat with Executive Director\, Joe Hungler\, and Nutrition Manager\, Sally Thayer. Joe and Sally will share a bit about how the Club has responded to the COVID-19 crisis and how\, with much community support\, the Club is working to do whatever it takes to assist Club members and families.\n\n\n\nThere will be time to chat and ask questions of our staff as well. \n\n \n\nAll are welcome\; supporters\, community members\, Club members and families.
X-ALT-DESC;FMTTYPE=text/html:<div align="center" style="margin: 0px\; padding: 0px\; border: 0px\; font-variant-numeric: inherit\; font-variant-east-asian: inherit\; font-stretch: inherit\; font-size: 16px\; line-height: inherit\; font-family: Verdana\, Geneva\, sans-serif\; vertical-align: baseline\; color: rgb(111\, 111\, 111)\; text-align: center\;"><span style="margin: 0px\; padding: 0px\; border: 0px\; font-style: inherit\; font-variant: inherit\; font-weight: inherit\; font-stretch: inherit\; font-size: 14px\; line-height: inherit\; vertical-align: baseline\; color: rgb(34\, 34\, 34)\;">Join the <a href="https://lbgc.org/">Boys and Girls Club of Greater Lowell</a> for </span><span style="margin: 0px\; padding: 0px\; border: 0px\; font-style: inherit\; font-variant: inherit\; font-weight: inherit\; font-stretch: inherit\; font-size: 14px\; line-height: inherit\; vertical-align: baseline\; color: rgb(34\, 34\, 34)\;">a live Zoom chat with Executive Director\, Joe Hungler\, and Nutrition Manager\, Sally Thayer. Joe and Sally will share a bit about how the Club has responded to the COVID-19 crisis and how\, with much community support\, the Club is working to do whatever it takes to assist&nbsp\;Club members and families.<br />\n<br />\nThere will be time to chat and ask questions of our staff as well.&nbsp\;</span><br />\n&nbsp\;</div>\n\n<div align="center" style="margin: 0px\; padding: 0px\; border: 0px\; font-variant-numeric: inherit\; font-variant-east-asian: inherit\; font-stretch: inherit\; font-size: 16px\; line-height: inherit\; font-family: Verdana\, Geneva\, sans-serif\; vertical-align: baseline\; color: rgb(111\, 111\, 111)\; text-align: center\;"><span style="margin: 0px\; padding: 0px\; border: 0px\; font-style: inherit\; font-variant: inherit\; font-weight: inherit\; font-stretch: inherit\; font-size: 14px\; line-height: inherit\; vertical-align: baseline\; color: rgb(34\, 34\, 34)\;">All are welcome\; supporters\, community members\, Club members and families.&nbsp\;</span></div>\n
LOCATION:
UID:e.554.4540
SEQUENCE:3
DTSTAMP:20260419T161324Z
URL:https://business.greaterlowellcc.org/events/details/zoom-chat-with-the-boys-and-girls-club-of-greater-lowell-4540
END:VEVENT

END:VCALENDAR
