BEGIN:VCALENDAR
VERSION:2.0
PRODID:-//ChamberMaster//Event Calendar 2.0//EN
METHOD:PUBLISH
X-PUBLISHED-TTL:P3D
REFRESH-INTERVAL:P3D
CALSCALE:GREGORIAN
BEGIN:VEVENT
DTSTART:20200326T150000Z
DTEND:20200326T160000Z
X-MICROSOFT-CDO-ALLDAYEVENT:FALSE
SUMMARY:Zoom Call with State Representative Tom Golden
DESCRIPTION:Join us for a call with State Representative Tom Golden! Representative Golden will answer your questions about resources available for businesses and individuals impacted by the COVID-19 pandemic and listen to your concerns.\n\n\n\nAll questions\, concerns\, feedback\, etc. must be submitted in advance by emailing Danielle at dmcfadden@greaterlowellchamber.org by Tuesday\, February 24th at 5pm.
X-ALT-DESC;FMTTYPE=text/html:Join us for a call with State Representative Tom Golden! Representative Golden will answer your questions about resources available for businesses and individuals impacted by the COVID-19 pandemic and listen to your concerns.<br>\n<br>\nAll questions\, concerns\, feedback\, etc. must be submitted in advance by emailing Danielle at <a href="mailto:dmcfadden@greateriowellchamber.org?subject=ZOOM%20Call%20with%20State%20Rep%20Golden">dmcfadden@greaterlowellchamber.org</a> by Tuesday\, February 24th at 5pm.
LOCATION:Here's the information for the ZOOM Meeting: https://zoom.us/j/793593295 Meeting ID: 793 593 295 Dial by your location +1 929 436 2866 US (New York)
UID:e.554.4454
SEQUENCE:3
DTSTAMP:20260419T192035Z
URL:https://business.greaterlowellcc.org/events/details/zoom-call-with-state-representative-tom-golden-4454
END:VEVENT

END:VCALENDAR
