BEGIN:VCALENDAR
VERSION:2.0
PRODID:-//ChamberMaster//Event Calendar 2.0//EN
METHOD:PUBLISH
X-PUBLISHED-TTL:P3D
REFRESH-INTERVAL:P3D
CALSCALE:GREGORIAN
BEGIN:VEVENT
DTSTART:20200624T160000Z
DTEND:20200624T170000Z
X-MICROSOFT-CDO-ALLDAYEVENT:FALSE
SUMMARY:Workplace Safety with Circle Health COVID Experts
DESCRIPTION:Join Circle Health's Medical Director\, Director of Emergency Services\, and Urgent Care and Occupational Medicine Manager for an informative seminar on Workplace Safety during COVID-19. \n\n \nPresented by Mary Lynn Joe\, MD\, Medical Director of Circle Health Urgent Care\n\n\n\nTracie McPadden\, MSN\, RN\, CEN\, CPEN\, Director of Emergency Services and Urgent Care\n\n\n\nKelly Zapata\, Manager of Circle Health Occupational Medicine\n\n \n\nSeminar Description:\n\n \n\nOur team has been actively managing this pandemic since early February and our infectious disease experts have helped our patient care teams provide safe\, skilled and compassionate care to hundreds of members of our community. COVID-19 experts from Circle Health Urgent Care and Lowell General Hospital Emergency Services will discuss the new guidelines for workplace safety and will answer your questions regarding employee screening\, return to work clearance\, and COVID-19 testing.\n\n \n\nAs Occupational Medicine experts for local municipalities and area businesses\, we understand the challenges COVID-19 has brought to employers.  We will provide tips on how to keep your employees safe\, promote health and wellness\, and reduce the risk of COVID-19 transmission to customers and staff. The seminar will also include a demonstration of mask fitting and other protection measures.\n\n \n\nAbout our Presenters\n\n \n\nMary Lynn Joe\, MD\, FACEP\,  is a board certified Emergency Medicine physician and is the Medical Director of Circle Health Urgent Care. Dr. Joe completed her residency in Emergency Medicine at University of Massachusetts School of Medicine in Worcester\, MA\, and received her medical degree from University of Massachusetts Medical School in Worcester\, MA. Dr. Joe's clinical interests are wound management\, antibiotic stewardship\, and women's health. She is the first-ever recipient of the Antibiotic Stewardship Champion Award given from the College of Urgent Care Medicine  (CUCM) in conjunction with the Urgent Care Association (UCA) and the Urgent Care Foundation (UFA).\n\n \n\nTracie McPadden\, MSN\, RN\, CEN\, CPEN has worked in Emergency Services at Lowell General Hospital for 20 years\, and serves as the Director of Emergency Services for Lowell General Hospital. In this role\, she manages operations for the emergency departments at both the main and Saints campuses. She is also Director of Circle Health Urgent Care\, having successfully opened and enhanced services at four urgent care locations in Billerica\, Tewksbury\, Lowell and Westford over the past six years.\n\n \n\nKelly Zapata has been helping area businesses\, first responders\, schools and more manage the health of employees for over 8 years. As Manager of Circle Health Occupational Medicine Services\, Kelly helps employers with the necessary screenings and works exams required by the state and has recently developed new programming to help employers navigate the new safety guidelines with COVID-19.\n\n\nCircle Health is a 2020 Platinum Sponsor. \n\n\n\nThis event is a partnership with the City of Lowell.
X-ALT-DESC;FMTTYPE=text/html:<span style="color: rgb(32\, 31\, 30)\; font-family: Calibri\, sans-serif\; font-size: 14.6667px\;">Join Circle Health&#39\;s Medical Director\, Director of Emergency Services\, and Urgent Care and Occupational Medicine Manager for an informative seminar on Workplace Safety during COVID-19.&nbsp\;</span><br />\n&nbsp\;\n<p style="color: rgb(32\, 31\, 30)\; font-size: 11pt\; font-family: Calibri\, sans-serif\; margin: 0px\;">Presented by Mary Lynn Joe\, MD\, Medical Director of Circle Health Urgent Care</p>\n\n<p style="color: rgb(32\, 31\, 30)\; font-size: 11pt\; font-family: Calibri\, sans-serif\; margin: 0px\;"><br />\nTracie McPadden\, MSN\, RN\, CEN\, CPEN\, Director of Emergency Services and Urgent Care</p>\n\n<p style="color: rgb(32\, 31\, 30)\; font-size: 11pt\; font-family: Calibri\, sans-serif\; margin: 0px\;"><br />\nKelly Zapata\, Manager of Circle Health Occupational Medicine</p>\n\n<p style="color: rgb(32\, 31\, 30)\; font-size: 11pt\; font-family: Calibri\, sans-serif\; margin: 0px\;">&nbsp\;</p>\n\n<p style="color: rgb(32\, 31\, 30)\; font-size: 11pt\; font-family: Calibri\, sans-serif\; margin: 0px\;">Seminar Description:<br />\n&nbsp\;</p>\n\n<p style="color: rgb(32\, 31\, 30)\; font-size: 11pt\; font-family: Calibri\, sans-serif\; margin: 0px\;">Our team has been actively managing this pandemic since early February and our infectious disease experts have helped our patient care teams provide safe\, skilled and compassionate care to hundreds of members of our community. COVID-19 experts from Circle Health Urgent Care and Lowell General Hospital Emergency Services will discuss the new guidelines for workplace safety and will answer your questions regarding employee screening\, return to work clearance\, and COVID-19 testing.</p>\n\n<p style="color: rgb(32\, 31\, 30)\; font-size: 11pt\; font-family: Calibri\, sans-serif\; margin: 0px\;">&nbsp\;</p>\n\n<p style="color: rgb(32\, 31\, 30)\; font-size: 11pt\; font-family: Calibri\, sans-serif\; margin: 0px\;">As Occupational Medicine experts for local municipalities and area businesses\, we understand the challenges COVID-19 has brought to employers. &nbsp\;We will provide tips on how to keep your employees safe\, promote health and wellness\, and reduce the risk of COVID-19 transmission to customers and staff. The seminar will also include a demonstration of mask fitting and other protection measures.</p>\n\n<p style="color: rgb(32\, 31\, 30)\; font-size: 11pt\; font-family: Calibri\, sans-serif\; margin: 0px\;">&nbsp\;</p>\n\n<p style="color: rgb(32\, 31\, 30)\; font-size: 11pt\; font-family: Calibri\, sans-serif\; margin: 0px\;"><b>About our Presenters</b></p>\n\n<p style="color: rgb(32\, 31\, 30)\; font-size: 11pt\; font-family: Calibri\, sans-serif\; margin: 0px\;"><span style="margin: 0px\; padding: 0px\; border: 0px\; font-style: inherit\; font-variant: inherit\; font-weight: inherit\; font-stretch: inherit\; font-size: 12pt\; line-height: inherit\; font-family: &quot\;Century Gothic&quot\;\, sans-serif\, serif\, EmojiFont\; vertical-align: baseline\; color: rgb(31\, 73\, 125)\;">&nbsp\;</span></p>\n\n<p style="color: rgb(32\, 31\, 30)\; font-size: 11pt\; font-family: Calibri\, sans-serif\; margin: 0px\;"><b>Mary Lynn Joe\, MD\, FACEP</b>\, &nbsp\;is a board certified Emergency Medicine physician and is the Medical Director of Circle Health Urgent Care. Dr. Joe completed her residency in Emergency Medicine at University of Massachusetts School of Medicine in Worcester\, MA\, and received her medical degree from University of Massachusetts Medical School in Worcester\, MA. Dr. Joe&rsquo\;s clinical interests are wound management\, antibiotic stewardship\, and women&rsquo\;s health. She is the first-ever recipient of the Antibiotic Stewardship Champion Award given from the College of Urgent Care Medicine&reg\; (CUCM) in conjunction with the Urgent Care Association (UCA) and the Urgent Care Foundation (UFA).</p>\n\n<p style="color: rgb(32\, 31\, 30)\; font-size: 11pt\; font-family: Calibri\, sans-serif\; margin: 0px\;">&nbsp\;</p>\n\n<p style="color: rgb(32\, 31\, 30)\; font-size: 11pt\; font-family: Calibri\, sans-serif\; margin: 0px\;"><b>Tracie McPadden\, MSN\, RN\, CEN\, CPEN</b>&nbsp\;has worked in Emergency Services at Lowell General Hospital for 20 years\, and serves as the Director of Emergency Services for Lowell General Hospital. In this role\, she manages operations for the emergency departments at both the main and Saints campuses. She is also Director of Circle Health Urgent Care\, having successfully opened and enhanced services at four urgent care locations in Billerica\, Tewksbury\, Lowell and Westford over the past six years.</p>\n\n<p style="color: rgb(32\, 31\, 30)\; font-size: 11pt\; font-family: Calibri\, sans-serif\; margin: 0px\;">&nbsp\;</p>\n\n<p style="color: rgb(32\, 31\, 30)\; font-size: 11pt\; font-family: Calibri\, sans-serif\; margin: 0px\;"><b>Kelly Zapata&nbsp\;</b>has been helping area businesses\, first responders\, schools and more manage the health of employees for over 8 years. As Manager of Circle Health Occupational Medicine Services\, Kelly helps employers with the necessary screenings and works exams required by the state and has recently developed new programming to help employers navigate the new safety guidelines with COVID-19.</p>\n<br />\n<em>Circle Health is a 2020 Platinum Sponsor.&nbsp\;</em><br />\n<br />\nThis event is a partnership with the City of Lowell.
LOCATION:
UID:e.554.4566
SEQUENCE:3
DTSTAMP:20260419T155437Z
URL:https://business.greaterlowellcc.org/events/details/workplace-safety-with-circle-health-covid-experts-4566
END:VEVENT

END:VCALENDAR
