BEGIN:VCALENDAR
VERSION:2.0
PRODID:-//ChamberMaster//Event Calendar 2.0//EN
METHOD:PUBLISH
X-PUBLISHED-TTL:P3D
REFRESH-INTERVAL:P3D
CALSCALE:GREGORIAN
BEGIN:VEVENT
DTSTART:20200629T150000Z
DTEND:20200629T160000Z
X-MICROSOFT-CDO-ALLDAYEVENT:FALSE
SUMMARY:Webinar: Paycheck Protection Program Loan Forgiveness from SBA
DESCRIPTION:Join the Greater Lowell and Nashoba Chambers for a presentation and Q&A on the Paycheck Protection Program Loan Forgiveness.\n\n\n\nPresented by Lisa Gonzalez Welch and Oreste Varela of the SBA\n\n\n\nThank you to our 2020 Sponsors: Enterprise Bank\, Circle Health and Jeanne D'Arc Credit Union.
X-ALT-DESC;FMTTYPE=text/html:<span style="color: rgb(85\, 85\, 85)\; font-family: Montserrat\, sans-serif\; font-size: 16px\;">Join the Greater Lowell and Nashoba Chambers for a presentation and Q&amp\;A on the Paycheck Protection Program Loan Forgiveness.</span><br style="box-sizing: border-box\; color: rgb(85\, 85\, 85)\; font-family: Montserrat\, sans-serif\; font-size: 16px\;" />\n<br style="box-sizing: border-box\; color: rgb(85\, 85\, 85)\; font-family: Montserrat\, sans-serif\; font-size: 16px\;" />\n<span style="color: rgb(85\, 85\, 85)\; font-family: Montserrat\, sans-serif\; font-size: 16px\;">Presented by Lisa Gonzalez Welch and Oreste Varela of the SBA<br />\n<br />\nThank you to our 2020 Sponsors: Enterprise Bank\, Circle Health and Jeanne D&#39\;Arc Credit Union.</span>
LOCATION:
UID:e.554.4568
SEQUENCE:3
DTSTAMP:20260419T141103Z
URL:https://business.greaterlowellcc.org/events/details/webinar-paycheck-protection-program-loan-forgiveness-from-sba-4568
END:VEVENT

END:VCALENDAR
