BEGIN:VCALENDAR
VERSION:2.0
PRODID:-//ChamberMaster//Event Calendar 2.0//EN
METHOD:PUBLISH
X-PUBLISHED-TTL:P3D
REFRESH-INTERVAL:P3D
CALSCALE:GREGORIAN
BEGIN:VEVENT
DTSTART:20200409T140000Z
DTEND:20200409T153000Z
X-MICROSOFT-CDO-ALLDAYEVENT:FALSE
SUMMARY:Webinar for Employers: MassHire's Rapid Response and Business Services
DESCRIPTION:The MassHire Rapid Response team is providing an interactive WebEx meeting. The presentation will focus on all the Rapid Response business services available including guidance about layoffs and layoff aversions (WorkShare).\n\n \n\nRapid Response Website.
X-ALT-DESC;FMTTYPE=text/html:<div style="margin: 0px\; padding: 0px\; border: 0px\; font-variant-numeric: inherit\; font-variant-east-asian: inherit\; font-stretch: inherit\; font-size: 16px\; line-height: inherit\; font-family: Calibri\, Arial\, Helvetica\, sans-serif\; vertical-align: baseline\; color: rgb(0\, 0\, 0)\;">The MassHire Rapid Response team is providing an interactive WebEx meeting.&nbsp\;The presentation will focus on all the Rapid Response business services available including guidance about layoffs and layoff aversions (WorkShare).</div>\n\n<div style="margin: 0px\; padding: 0px\; border: 0px\; font-variant-numeric: inherit\; font-variant-east-asian: inherit\; font-stretch: inherit\; font-size: 16px\; line-height: inherit\; font-family: Calibri\, Arial\, Helvetica\, sans-serif\; vertical-align: baseline\; color: rgb(0\, 0\, 0)\;">&nbsp\;</div>\n\n<div style="margin: 0px\; padding: 0px\; border: 0px\; font-variant-numeric: inherit\; font-variant-east-asian: inherit\; font-stretch: inherit\; font-size: 16px\; line-height: inherit\; font-family: Calibri\, Arial\, Helvetica\, sans-serif\; vertical-align: baseline\; color: rgb(0\, 0\, 0)\;"><a href="https://www.mass.gov/prevent-layoffs-with-rapid-response">Rapid Response&nbsp\;Website.</a></div>\n
LOCATION:
UID:e.554.4490
SEQUENCE:3
DTSTAMP:20260419T174705Z
URL:https://business.greaterlowellcc.org/events/details/webinar-for-employers-masshire-s-rapid-response-and-business-services-4490
END:VEVENT

END:VCALENDAR
