BEGIN:VCALENDAR
VERSION:2.0
PRODID:-//ChamberMaster//Event Calendar 2.0//EN
METHOD:PUBLISH
X-PUBLISHED-TTL:P3D
REFRESH-INTERVAL:P3D
CALSCALE:GREGORIAN
BEGIN:VEVENT
DTSTART:20200406T190000Z
DTEND:20200406T200000Z
X-MICROSOFT-CDO-ALLDAYEVENT:FALSE
SUMMARY:Webinar: Deciphering the New CARES Act\, Paycheck Protection Program and Economic Injury Disaster Loan for Restaurants
DESCRIPTION:Brought to you by Compeat:\n\nJoin Compeat CMO\, Kristi Turner with Jean Hagan\, Principal and Paren Knadjian\, M&A Practice Leader of KROST tax\, accounting and consulting services as well as Joshua Santana and Maria Degaine from Cerboni accounting firm for an in-depth look at latest financial options and strategic considerations for restaurants.\n\nWe will discuss the new CARES Act\, Paycheck Protection Program\, Economic Injury Disaster Loan and Paid Family Leave. In addition\, a discussion around the key decisions every restaurant is trying to make during the COVID-19 crisis.\n\n\n	Should I stay open or close?\n	Do I keep\, furlough or lay off my employees?\n	How to monitor and manage cash flow?\n	Where do I go to apply for loans?\n\n\nWe will answer it all.
X-ALT-DESC;FMTTYPE=text/html:<p style="box-sizing: border-box\; outline: none 0px\; letter-spacing: 0.17px\; color: rgb(85\, 85\, 85)\; font-family: Lato\, Helvetica\, Arial\, sans-serif\; font-size: 17px\;"><span style="box-sizing: border-box\; outline: none 0px\;">Brought to you by <a href="https://www.compeat.com/">Compeat</a>:<br />\nJoin Compeat CMO\,&nbsp\;<a href="https://www.compeat.com/blog/team-member/kristi-turner/" rel=" noopener" style="box-sizing: border-box\; outline: none 0px\; color: rgb(0\, 218\, 99)\; text-decoration-line: none\;">Kristi Turner&nbsp\;</a>with Jean Hagan\, Principal and Paren Knadjian\, M&amp\;A Practice Leader of&nbsp\;<a href="https://www.krostcpas.com/" rel=" noopener" style="box-sizing: border-box\; outline: none 0px\; color: rgb(0\, 218\, 99)\; text-decoration-line: none\;">KROST</a>&nbsp\;tax\, accounting and consulting services as well as Joshua Santana and Maria Degaine from&nbsp\;<a href="http://cerboniservices.com/" rel=" noopener" style="box-sizing: border-box\; outline: none 0px\; color: rgb(0\, 218\, 99)\; text-decoration-line: none\;">Cerboni</a>&nbsp\;accounting firm for an in-depth look at latest financial options and strategic considerations for restaurants.</span></p>\n\n<p style="box-sizing: border-box\; outline: none 0px\; letter-spacing: 0.17px\; color: rgb(85\, 85\, 85)\; font-family: Lato\, Helvetica\, Arial\, sans-serif\; font-size: 17px\;"><span style="box-sizing: border-box\; outline: none 0px\;">We will discuss the new CARES Act\, Paycheck Protection Program\, Economic Injury Disaster Loan and Paid Family Leave. In addition\, a discussion around the key decisions every restaurant is trying to make during the COVID-19 crisis.</span></p>\n\n<ul style="box-sizing: border-box\; outline: none 0px\; padding-left: 0px\; color: rgb(85\, 85\, 85)\; font-family: Lato\, Helvetica\, Arial\, sans-serif\; font-size: 17px\;">\n	<li style="box-sizing: border-box\; outline: none 0px\; padding: 3px 0px 10px 25px\; background-image: url(&quot\;https://cdn2.hubspot.net/hubfs/2313273/Compeat_Oct2016-Theme/images/arrow-o.png&quot\;)\; background-size: 20px\; background-position-y: 5px\; background-repeat: no-repeat\; list-style-type: none\;"><span style="box-sizing: border-box\; outline: none 0px\;">Should I stay open or close?</span></li>\n	<li style="box-sizing: border-box\; outline: none 0px\; padding: 3px 0px 10px 25px\; background-image: url(&quot\;https://cdn2.hubspot.net/hubfs/2313273/Compeat_Oct2016-Theme/images/arrow-o.png&quot\;)\; background-size: 20px\; background-position-y: 5px\; background-repeat: no-repeat\; list-style-type: none\;"><span style="box-sizing: border-box\; outline: none 0px\;">Do I keep\, furlough or lay off my employees?</span></li>\n	<li style="box-sizing: border-box\; outline: none 0px\; padding: 3px 0px 10px 25px\; background-image: url(&quot\;https://cdn2.hubspot.net/hubfs/2313273/Compeat_Oct2016-Theme/images/arrow-o.png&quot\;)\; background-size: 20px\; background-position-y: 5px\; background-repeat: no-repeat\; list-style-type: none\;"><span style="box-sizing: border-box\; outline: none 0px\;">How to monitor and manage cash flow?</span></li>\n	<li style="box-sizing: border-box\; outline: none 0px\; padding: 3px 0px 10px 25px\; background-image: url(&quot\;https://cdn2.hubspot.net/hubfs/2313273/Compeat_Oct2016-Theme/images/arrow-o.png&quot\;)\; background-size: 20px\; background-position-y: 5px\; background-repeat: no-repeat\; list-style-type: none\;"><span style="box-sizing: border-box\; outline: none 0px\;">Where do I go to apply for loans?</span></li>\n</ul>\n\n<p style="box-sizing: border-box\; outline: none 0px\; letter-spacing: 0.17px\; color: rgb(85\, 85\, 85)\; font-family: Lato\, Helvetica\, Arial\, sans-serif\; font-size: 17px\;"><span style="box-sizing: border-box\; outline: none 0px\;">We will answer it all.</span></p>\n
LOCATION:
UID:e.554.4488
SEQUENCE:3
DTSTAMP:20260419T174846Z
URL:https://business.greaterlowellcc.org/events/details/webinar-deciphering-the-new-cares-act-paycheck-protection-program-and-economic-injury-disaster-loan-for-restaurants-4488
END:VEVENT

END:VCALENDAR
