BEGIN:VCALENDAR
VERSION:2.0
PRODID:-//ChamberMaster//Event Calendar 2.0//EN
METHOD:PUBLISH
X-PUBLISHED-TTL:P3D
REFRESH-INTERVAL:P3D
CALSCALE:GREGORIAN
BEGIN:VEVENT
DTSTART:20200811T140000Z
DTEND:20200811T150000Z
X-MICROSOFT-CDO-ALLDAYEVENT:FALSE
SUMMARY:W.I.S.E Event with Polka Dot Powerhouse: Techie Tools
DESCRIPTION:Please join the Chamber's W.I.S.E. (Women Inspiring Success and Empowerment) Group and Polka Dot Powerhouse Merrimack Valley for a virtual mixer to discuss techie tools (and tricks) we use to make life a little easier!
X-ALT-DESC;FMTTYPE=text/html:<div style="margin: 0px\; padding: 0px\; border: 0px\; font-variant-numeric: inherit\; font-variant-east-asian: inherit\; font-stretch: inherit\; font-size: 12pt\; line-height: inherit\; font-family: Calibri\, Arial\, Helvetica\, sans-serif\; vertical-align: baseline\; color: black\;">Please join the Chamber&#39\;s W.I.S.E. (Women Inspiring Success and Empowerment) Group and <a href="https://www.facebook.com/MerrimackValleyMADots/">Polka Dot Powerhouse Merrimack Valley</a> for a virtual mixer to discuss techie tools (and tricks) we use to make life a little easier!&nbsp\;</div>\n
LOCATION:
UID:e.554.4581
SEQUENCE:3
DTSTAMP:20260421T101819Z
URL:https://business.greaterlowellcc.org/events/details/w-i-s-e-event-with-polka-dot-powerhouse-techie-tools-4581
END:VEVENT

END:VCALENDAR
