BEGIN:VCALENDAR
VERSION:2.0
PRODID:-//ChamberMaster//Event Calendar 2.0//EN
METHOD:PUBLISH
X-PUBLISHED-TTL:P3D
REFRESH-INTERVAL:P3D
CALSCALE:GREGORIAN
BEGIN:VEVENT
DTSTART:20200609T160000Z
DTEND:20200609T170000Z
X-MICROSOFT-CDO-ALLDAYEVENT:FALSE
SUMMARY:W.I.S.E Event with Polka Dot Powerhouse: Productivity and Self-Care
DESCRIPTION:Please join the Chamber's W.I.S.E. (Women Inspiring Success and Empowerment) Group and Polka Dot Powerhouse Merrimack Valley for a virtual mixer to discuss Productivity and Self-Care during this time of social distancing and working remotely!\n\n \n\nCome with your tips and tricks and learn from other women in our community!
X-ALT-DESC;FMTTYPE=text/html:<div style="margin: 0px\; padding: 0px\; border: 0px\; font-variant-numeric: inherit\; font-variant-east-asian: inherit\; font-stretch: inherit\; font-size: 12pt\; line-height: inherit\; font-family: Calibri\, Arial\, Helvetica\, sans-serif\; vertical-align: baseline\; color: black\;">Please join the Chamber&#39\;s W.I.S.E. (Women Inspiring Success and Empowerment) Group and <a href="https://www.facebook.com/MerrimackValleyMADots/">Polka Dot Powerhouse Merrimack Valley</a> for a virtual mixer to discuss Productivity and Self-Care during this time of social distancing and working remotely!</div>\n\n<div style="margin: 0px\; padding: 0px\; border: 0px\; font-variant-numeric: inherit\; font-variant-east-asian: inherit\; font-stretch: inherit\; font-size: 12pt\; line-height: inherit\; font-family: Calibri\, Arial\, Helvetica\, sans-serif\; vertical-align: baseline\; color: black\;">&nbsp\;</div>\n\n<div style="margin: 0px\; padding: 0px\; border: 0px\; font-variant-numeric: inherit\; font-variant-east-asian: inherit\; font-stretch: inherit\; font-size: 12pt\; line-height: inherit\; font-family: Calibri\, Arial\, Helvetica\, sans-serif\; vertical-align: baseline\; color: black\;">Come with your tips and tricks and learn from other women in our community!</div>\n
LOCATION:
UID:e.554.4562
SEQUENCE:3
DTSTAMP:20260419T155810Z
URL:https://business.greaterlowellcc.org/events/details/w-i-s-e-event-with-polka-dot-powerhouse-productivity-and-self-care-4562
END:VEVENT

END:VCALENDAR
