BEGIN:VCALENDAR
VERSION:2.0
PRODID:-//ChamberMaster//Event Calendar 2.0//EN
METHOD:PUBLISH
X-PUBLISHED-TTL:P3D
REFRESH-INTERVAL:P3D
CALSCALE:GREGORIAN
BEGIN:VEVENT
DTSTART:20200727T160000Z
DTEND:20200727T170000Z
X-MICROSOFT-CDO-ALLDAYEVENT:FALSE
SUMMARY:W.I.S.E Event with Polka Dot Powerhouse: Favorite Things
DESCRIPTION:Please join the Chamber's W.I.S.E. (Women Inspiring Success and Empowerment) Group and Polka Dot Powerhouse Merrimack Valley for a virtual mixer to discuss our "favorite things" - think Oprah's Favorite Things! \n\n \n\nCome with one (or two) of your favorite products and let us know what you love them. We'll create a list (with links to purchase\, of course) and send it out after the event. SO FUN!
X-ALT-DESC;FMTTYPE=text/html:<div style="margin: 0px\; padding: 0px\; border: 0px\; font-variant-numeric: inherit\; font-variant-east-asian: inherit\; font-stretch: inherit\; font-size: 12pt\; line-height: inherit\; font-family: Calibri\, Arial\, Helvetica\, sans-serif\; vertical-align: baseline\; color: black\;">Please join the Chamber&#39\;s W.I.S.E. (Women Inspiring Success and Empowerment) Group and <a href="https://www.facebook.com/MerrimackValleyMADots/">Polka Dot Powerhouse Merrimack Valley</a> for a virtual mixer to discuss our &quot\;favorite things&quot\; - think <a href="https://variety.com/feature/oprah-favorite-things-list-best-gifts-1203079251/">Oprah&#39\;s Favorite Things</a>!&nbsp\;</div>\n\n<div style="margin: 0px\; padding: 0px\; border: 0px\; font-variant-numeric: inherit\; font-variant-east-asian: inherit\; font-stretch: inherit\; font-size: 12pt\; line-height: inherit\; font-family: Calibri\, Arial\, Helvetica\, sans-serif\; vertical-align: baseline\; color: black\;">&nbsp\;</div>\n\n<div style="margin: 0px\; padding: 0px\; border: 0px\; font-variant-numeric: inherit\; font-variant-east-asian: inherit\; font-stretch: inherit\; font-size: 12pt\; line-height: inherit\; font-family: Calibri\, Arial\, Helvetica\, sans-serif\; vertical-align: baseline\; color: black\;">Come with one (or two) of your favorite products and let us know what you love them. We&#39\;ll create a list (with links to purchase\, of course) and send it out after the event. <strong><em><u>SO FUN!&nbsp\;</u></em></strong></div>\n
LOCATION:
UID:e.554.4580
SEQUENCE:3
DTSTAMP:20260419T122634Z
URL:https://business.greaterlowellcc.org/events/details/w-i-s-e-event-with-polka-dot-powerhouse-favorite-things-4580
END:VEVENT

END:VCALENDAR
