BEGIN:VCALENDAR
VERSION:2.0
PRODID:-//ChamberMaster//Event Calendar 2.0//EN
METHOD:PUBLISH
X-PUBLISHED-TTL:P3D
REFRESH-INTERVAL:P3D
CALSCALE:GREGORIAN
BEGIN:VEVENT
DTSTART:20200311T160000Z
DTEND:20200311T173000Z
X-MICROSOFT-CDO-ALLDAYEVENT:FALSE
SUMMARY:W.I.S.E. Event: The Women's Power of Manifestation
DESCRIPTION:Join us at the Merrimack Valley Center for Empowerment!\n\n\n\nDuring this event we'll talk about: \n\n-How women's energy flows\n\n- What energetically nourishes us & depletes us\n\n-Methods to manifest!\n\nAnd we'll top it off with a 15 min meditation\, leaving you clear\, calm\, and rejuvenated!
X-ALT-DESC;FMTTYPE=text/html:<p style="color: rgb(32\, 31\, 30)\; font-family: &quot\;Segoe UI&quot\;\, &quot\;Segoe UI Web (West European)&quot\;\, &quot\;Segoe UI&quot\;\, -apple-system\, system-ui\, Roboto\, &quot\;Helvetica Neue&quot\;\, sans-serif\; font-size: 19px\; margin: 0px\; line-height: normal\; font-stretch: normal\;"><span style="font-size:14px\;"><span style="font-family:arial\;">Join us at the <a href="https://www.mvempower.com/">Merrimack Valley Center for Empowerment</a>!<br />\n<br />\nDuring this event we&rsquo\;ll talk about:&nbsp\;</span></span></p>\n\n<p style="color: rgb(32\, 31\, 30)\; font-family: &quot\;Segoe UI&quot\;\, &quot\;Segoe UI Web (West European)&quot\;\, &quot\;Segoe UI&quot\;\, -apple-system\, system-ui\, Roboto\, &quot\;Helvetica Neue&quot\;\, sans-serif\; font-size: 19px\; margin: 0px\; line-height: normal\; font-stretch: normal\;"><span style="font-size:14px\;"><span style="font-family:arial\;"><span style="margin: 0px\; padding: 0px\; border: 0px\; font-style: italic\; font-variant: inherit\; font-weight: inherit\; font-stretch: inherit\; line-height: inherit\; vertical-align: baseline\; color: inherit\;">-How women&#39\;s energy flows</span></span></span></p>\n\n<p style="color: rgb(32\, 31\, 30)\; font-family: &quot\;Segoe UI&quot\;\, &quot\;Segoe UI Web (West European)&quot\;\, &quot\;Segoe UI&quot\;\, -apple-system\, system-ui\, Roboto\, &quot\;Helvetica Neue&quot\;\, sans-serif\; font-size: 19px\; margin: 0px\; line-height: normal\; font-stretch: normal\;"><span style="font-size:14px\;"><span style="font-family:arial\;"><span style="margin: 0px\; padding: 0px\; border: 0px\; font-style: italic\; font-variant: inherit\; font-weight: inherit\; font-stretch: inherit\; line-height: inherit\; vertical-align: baseline\; color: inherit\;">- What energetically nourishes us &amp\; depletes us</span></span></span></p>\n\n<p style="color: rgb(32\, 31\, 30)\; font-family: &quot\;Segoe UI&quot\;\, &quot\;Segoe UI Web (West European)&quot\;\, &quot\;Segoe UI&quot\;\, -apple-system\, system-ui\, Roboto\, &quot\;Helvetica Neue&quot\;\, sans-serif\; font-size: 19px\; margin: 0px\; line-height: normal\; font-stretch: normal\;"><span style="font-size:14px\;"><span style="font-family:arial\;"><span style="margin: 0px\; padding: 0px\; border: 0px\; font-style: italic\; font-variant: inherit\; font-weight: inherit\; font-stretch: inherit\; line-height: inherit\; vertical-align: baseline\; color: inherit\;">-Methods to manifest!</span></span></span></p>\n\n<p style="color: rgb(32\, 31\, 30)\; font-family: &quot\;Segoe UI&quot\;\, &quot\;Segoe UI Web (West European)&quot\;\, &quot\;Segoe UI&quot\;\, -apple-system\, system-ui\, Roboto\, &quot\;Helvetica Neue&quot\;\, sans-serif\; font-size: 19px\; margin: 0px\; line-height: normal\; font-stretch: normal\;"><span style="font-size:14px\;"><span style="font-family:arial\;">And we&rsquo\;ll top it off with a 15 min meditation\, leaving you clear\, calm\, and rejuvenated!&nbsp\;</span></span></p>\n
LOCATION:564 Dutton Street 3rd Floor Lowell\, MA (* Please note that there is no elevator.)
UID:e.554.4443
SEQUENCE:3
DTSTAMP:20260419T193208Z
URL:https://business.greaterlowellcc.org/events/details/w-i-s-e-event-the-women-s-power-of-manifestation-4443
END:VEVENT

END:VCALENDAR
