BEGIN:VCALENDAR
VERSION:2.0
PRODID:-//ChamberMaster//Event Calendar 2.0//EN
METHOD:PUBLISH
X-PUBLISHED-TTL:P3D
REFRESH-INTERVAL:P3D
CALSCALE:GREGORIAN
BEGIN:VEVENT
DTSTART:20200716T150000Z
DTEND:20200716T160000Z
X-MICROSOFT-CDO-ALLDAYEVENT:FALSE
SUMMARY:Virtual Office Hours with the City of Lowell's Economic Development Office
DESCRIPTION:Drop-in anytime between 11am-12pm to say hello to our President (Danielle McFadden)\, ask a question\, give feedback\, or meet a valuable resource partner!\n\n\n\nChristine McCall from the City of Lowell's Economic Development Office will be joining us!\n\n\nChristine McCall | Director of Economic Development\n\nDepartment of Planning and Development\n\nCity of Lowell\n\n978.674.1432\n\nCMcCall@lowellma.gov
X-ALT-DESC;FMTTYPE=text/html:Drop-in anytime between 11am-12pm to say hello to our President (Danielle McFadden)\, ask a question\, give feedback\, or meet a valuable resource partner!<br />\n<br />\nChristine McCall from the City of Lowell&#39\;s Economic Development Office will be joining us!\n<p style="color: rgb(32\, 31\, 30)\; font-size: 12pt\; font-family: &quot\;Times New Roman&quot\;\, serif\; margin: 0px\;"><br />\n<span style="color:#0000CD\;"><span style="font-size:12px\;"><b><span style="margin: 0px\; padding: 0px\; border: 0px\; font-style: inherit\; font-variant: inherit\; font-weight: inherit\; font-stretch: inherit\; line-height: inherit\; vertical-align: baseline\;">Christine McCall&nbsp\;</span></b><b><span style="margin: 0px\; padding: 0px\; border: 0px\; font-style: inherit\; font-variant: inherit\; font-weight: inherit\; font-stretch: inherit\; line-height: inherit\; vertical-align: baseline\;">|</span></b><span style="margin: 0px\; padding: 0px\; border: 0px\; font-style: inherit\; font-variant: inherit\; font-weight: inherit\; font-stretch: inherit\; line-height: inherit\; vertical-align: baseline\;">&nbsp\;</span><i><span style="margin: 0px\; padding: 0px\; border: 0px\; font-style: inherit\; font-variant: inherit\; font-weight: inherit\; font-stretch: inherit\; line-height: inherit\; vertical-align: baseline\;">Director of Economic Development</span></i></span><br />\n<span style="font-size:12px\;"><span style="margin: 0px\; padding: 0px\; border: 0px\; font-style: inherit\; font-variant: inherit\; font-weight: inherit\; font-stretch: inherit\; line-height: inherit\; vertical-align: baseline\;"><em>Department of Planning and Development<br />\nCity of Lowell</em></span></span><br />\n<span style="font-size:12px\;"><span style="margin: 0px\; padding: 0px\; border: 0px\; font-style: inherit\; font-variant: inherit\; font-weight: inherit\; font-stretch: inherit\; line-height: inherit\; vertical-align: baseline\;">978.674.1432</span><br />\nCMcCall@lowellma.gov</span></span></p>\n
LOCATION:
UID:e.554.4570
SEQUENCE:3
DTSTAMP:20260419T122935Z
URL:https://business.greaterlowellcc.org/events/details/virtual-office-hours-with-the-city-of-lowell-s-economic-development-office-4570
END:VEVENT

END:VCALENDAR
