BEGIN:VCALENDAR
VERSION:2.0
PRODID:-//ChamberMaster//Event Calendar 2.0//EN
METHOD:PUBLISH
X-PUBLISHED-TTL:P3D
REFRESH-INTERVAL:P3D
CALSCALE:GREGORIAN
BEGIN:VEVENT
DTSTART:20200730T150000Z
DTEND:20200730T160000Z
X-MICROSOFT-CDO-ALLDAYEVENT:FALSE
SUMMARY:Virtual Networking and Office Hours with the Town of Dracut
DESCRIPTION:Drop-in anytime between 11am-12pm to say hello to our President (Danielle McFadden)\, ask a question\, give feedback\, or meet a valuable resource partner!\n\n\n\nAnn Vandal\, Dracut Town Manager\, will be joining us!
X-ALT-DESC;FMTTYPE=text/html:Drop-in anytime between 11am-12pm to say hello to our President (Danielle McFadden)\, ask a question\, give feedback\, or meet a valuable resource partner!<br />\n<br />\nAnn Vandal\, Dracut Town Manager\, will be joining us!
LOCATION:
UID:e.554.4574
SEQUENCE:3
DTSTAMP:20260419T141350Z
URL:https://business.greaterlowellcc.org/events/details/virtual-networking-and-office-hours-with-the-town-of-dracut-4574
END:VEVENT

END:VCALENDAR
