BEGIN:VCALENDAR
VERSION:2.0
PRODID:-//ChamberMaster//Event Calendar 2.0//EN
METHOD:PUBLISH
X-PUBLISHED-TTL:P3D
REFRESH-INTERVAL:P3D
CALSCALE:GREGORIAN
BEGIN:VEVENT
DTSTART:20200723T150000Z
DTEND:20200723T160000Z
X-MICROSOFT-CDO-ALLDAYEVENT:FALSE
SUMMARY:Virtual Networking and Office Hours with MassHire Greater Lowell Workforce Board
DESCRIPTION:Drop-in anytime between 11am-12pm to say hello to our President (Danielle McFadden)\, ask a question\, give feedback\, or meet a valuable resource partner!\n\nMost office hours also feature a government leader\, business resource partner\, or local municipality.\n\n\n\nPeter Farkas from the MassHire Greater Lowell Workforce Board will be joining us!\n\n \nPeter Farkas\n\nExecutive Director\n\nMassHire Greater Lowell Workforce Board\n\n978.805.4736\n\nPeter.Farkas@MassHireGreaterLowell.com
X-ALT-DESC;FMTTYPE=text/html:Drop-in anytime between 11am-12pm to say hello to our President (Danielle McFadden)\, ask a question\, give feedback\, or meet a valuable resource partner!<br />\nMost office hours also feature a government leader\, business resource partner\, or local municipality.<br />\n<br />\n<span style="font-family: arial\; font-size: 12px\;">Peter Farkas from the <a href="http://MassHireGreaterLowell.com">MassHire Greater Lowell Workforce Board</a> will be joining us!</span><br style="font-family: arial\; font-size: 12px\;" />\n&nbsp\;\n<p class="x_MsoNormal" style="margin: 0in 0in 0.0001pt\; font-size: 11pt\; font-family: Calibri\, sans-serif\; color: rgb(32\, 31\, 30)\;"><span style="color:#0000CD\;"><span style="font-size:12px\;"><b><span style="margin: 0px\; padding: 0px\; border: 0px\; font-style: inherit\; font-variant: inherit\; font-weight: inherit\; font-stretch: inherit\; line-height: inherit\; vertical-align: baseline\;">Peter&nbsp\;<span class="markutpsavksd" data-markjs="true" data-ogab="" data-ogac="" data-ogsb="" data-ogsc="" style="margin: 0px\; padding: 0px\; border: 0px\; font-style: inherit\; font-variant: inherit\; font-weight: inherit\; font-stretch: inherit\; line-height: inherit\; font-family: inherit\; vertical-align: baseline\;">Farkas</span></span></b><br />\n<em><span style="margin: 0px\; padding: 0px\; border: 0px\; font-style: inherit\; font-variant: inherit\; font-weight: inherit\; font-stretch: inherit\; line-height: inherit\; vertical-align: baseline\;">Executive Director</span><br />\nMassHire Greater Lowell Workforce Board</em></span></span></p>\n\n<p class="x_MsoNormal" style="margin: 0in 0in 0.0001pt\; font-family: Calibri\, sans-serif\;"><span style="color:#0000CD\;"><span style="font-size:12px\;"><span style="margin: 0px\; padding: 0px\; border: 0px\; font-style: inherit\; font-variant: inherit\; font-weight: inherit\; font-stretch: inherit\; line-height: inherit\; vertical-align: baseline\;">978.805.4736</span></span></span><br />\n<span style="font-size:12px\;"><a data-auth="NotApplicable" href="mailto:Peter.Farkas@MassHireGreaterLowell.com" rel="noopener noreferrer" style="margin: 0px\; padding: 0px\; border: 0px\; font: inherit\; vertical-align: baseline\; color: rgb(149\, 79\, 114)\;" target="_blank"><span style="color:#0000CD\;"><span style="margin: 0px\; padding: 0px\; border: 0px\; font-style: inherit\; font-variant: inherit\; font-weight: inherit\; font-stretch: inherit\; line-height: inherit\; vertical-align: baseline\;">Peter.<span class="markutpsavksd" data-markjs="true" data-ogab="" data-ogac="" data-ogsb="" data-ogsc="" style="margin: 0px\; padding: 0px\; border: 0px\; font-style: inherit\; font-variant: inherit\; font-weight: inherit\; font-stretch: inherit\; line-height: inherit\; font-family: inherit\; vertical-align: baseline\;">Farkas</span>@MassHireGreaterLowell.com</span></span></a></span></p>\n
LOCATION:
UID:e.554.4572
SEQUENCE:3
DTSTAMP:20260419T122442Z
URL:https://business.greaterlowellcc.org/events/details/virtual-networking-and-office-hours-with-masshire-greater-lowell-workforce-board-4572
END:VEVENT

END:VCALENDAR
