BEGIN:VCALENDAR
VERSION:2.0
PRODID:-//ChamberMaster//Event Calendar 2.0//EN
METHOD:PUBLISH
X-PUBLISHED-TTL:P3D
REFRESH-INTERVAL:P3D
CALSCALE:GREGORIAN
BEGIN:VEVENT
DTSTART:20200806T150000Z
DTEND:20200806T160000Z
X-MICROSOFT-CDO-ALLDAYEVENT:FALSE
SUMMARY:Virtual Networking and Hours with Community Teamwork (CTI)
DESCRIPTION:*** Postponed until September *** \n\n\n\nDrop-in anytime between 11am-12pm to say hello to our President (Danielle McFadden)\, ask a question\, give feedback\, or meet a valuable resource partner!\n\n\n\nCommunity Teamwork will be joining us!
X-ALT-DESC;FMTTYPE=text/html:<p><span style="font-size:12px\;"><span style="font-family:arial\;"><strong>*** Postponed until September ***&nbsp\;</strong><br />\n<br />\nDrop-in anytime between 11am-12pm to say hello to our President (Danielle McFadden)\, ask a question\, give feedback\, or meet a valuable resource partner!</span></span><br />\n<br />\nCommunity Teamwork will be joining us!</p>\n
LOCATION:
UID:e.554.4584
SEQUENCE:3
DTSTAMP:20260421T103041Z
URL:https://business.greaterlowellcc.org/events/details/virtual-networking-and-hours-with-community-teamwork-cti-4584
END:VEVENT

END:VCALENDAR
