BEGIN:VCALENDAR
VERSION:2.0
PRODID:-//ChamberMaster//Event Calendar 2.0//EN
METHOD:PUBLISH
X-PUBLISHED-TTL:P3D
REFRESH-INTERVAL:P3D
CALSCALE:GREGORIAN
BEGIN:VEVENT
DTSTART:20200326T220000Z
DTEND:20200326T230000Z
X-MICROSOFT-CDO-ALLDAYEVENT:FALSE
SUMMARY:Virtual Mix & Mingle at Lowell Makes
DESCRIPTION:March 26 was originally scheduled to be a mixer at Lowell Makes. Let's keep social distancing and take a virtual tour of Lowell Makes. They'll show you around and share information about the new building they are purchasing at Western Avenue. \n\n\n	At 6pm\, click this link to watch the stream on YouTube: https://www.youtube.com/watch?v=UKkpxFdUGTI  \n	Or\, click this link to watch the stream on Facebook: https://www.facebook.com/LowellMakes/videos/2598869317062954/  \n\n\n\nThey'll take you on a virtual tour of Lowell Makes and talk about their fundraising efforts to move their makerspace to Western Avenue. You'll have the opportunity to meet some amazing makers and ask questions.\n\n \nThey are very close to reaching our fundraising goals. To help us raise $125\,000 before our April 30 closing date\, you can contribute here: https://www.gofundme.com/f/sustain-lowell-makes
X-ALT-DESC;FMTTYPE=text/html:<span style="color: rgb(29\, 33\, 41)\; font-family: &quot\;Helvetica Neue&quot\;\, Helvetica\, Arial\, sans-serif\; font-size: 14px\; white-space: pre-wrap\;">March 26 was originally scheduled to be a mixer </span><span style="color: rgb(29\, 33\, 41)\; font-family: &quot\;Helvetica Neue&quot\;\, Helvetica\, Arial\, sans-serif\; font-size: 14px\; white-space: pre-wrap\;">at Lowell Makes. Let&#39\;s keep social distancing and take a virtual tour of Lowell Makes. They&#39\;ll show you around and share information about the new building they are purchasing at Western Avenue. </span>\n<div style="margin: 0px\; padding: 0px\; border: 0px\; font-variant-numeric: inherit\; font-variant-east-asian: inherit\; font-stretch: inherit\; font-size: 15px\; line-height: inherit\; font-family: &quot\;Segoe UI&quot\;\, &quot\;Segoe UI Web (West European)&quot\;\, &quot\;Segoe UI&quot\;\, -apple-system\, system-ui\, Roboto\, &quot\;Helvetica Neue&quot\;\, sans-serif\; vertical-align: baseline\; color: rgb(32\, 31\, 30)\;">\n<ul>\n	<li>At 6pm\, click this link to watch the&nbsp\;stream on YouTube:&nbsp\;<a data-auth="NotApplicable" href="https://www.youtube.com/watch?v=UKkpxFdUGTI" rel="noopener noreferrer" style="margin: 0px\; padding: 0px\; border: 0px\; font: inherit\; vertical-align: baseline\;" target="_blank">https://www.youtube.com/watch?v=UKkpxFdUGTI</a>&nbsp\;&nbsp\;</li>\n	<li>Or\, click&nbsp\;this link to watch the stream on Facebook:&nbsp\;<a data-auth="NotApplicable" href="https://www.facebook.com/LowellMakes/videos/2598869317062954/" rel="noopener noreferrer" style="margin: 0px\; padding: 0px\; border: 0px\; font: inherit\; vertical-align: baseline\;" target="_blank">https://www.facebook.com/LowellMakes/videos/2598869317062954/</a>&nbsp\;&nbsp\;</li>\n</ul>\n</div>\n\n<div style="margin: 0px\; padding: 0px\; border: 0px\; font-variant-numeric: inherit\; font-variant-east-asian: inherit\; font-stretch: inherit\; font-size: 15px\; line-height: inherit\; font-family: &quot\;Segoe UI&quot\;\, &quot\;Segoe UI Web (West European)&quot\;\, &quot\;Segoe UI&quot\;\, -apple-system\, system-ui\, Roboto\, &quot\;Helvetica Neue&quot\;\, sans-serif\; vertical-align: baseline\; color: rgb(32\, 31\, 30)\;"><span style="margin: 0px\; padding: 0px\; border: 0px\; font-style: inherit\; font-variant-ligatures: inherit\; font-variant-caps: inherit\; font-variant-numeric: normal\; font-variant-east-asian: normal\; font-weight: inherit\; font-stretch: inherit\; font-size: inherit\; line-height: inherit\; font-family: Arial\; vertical-align: baseline\; color: black\; background-color: transparent\; white-space: pre-wrap\;">They&rsquo\;ll take you on a virtual tour of Lowell Makes and talk about their fundraising efforts to <a data-auth="NotApplicable" href="https://www.gofundme.com/f/sustain-lowell-makes" rel="noopener noreferrer" style="margin: 0px\; padding: 0px\; border: 0px\; font: inherit\; vertical-align: baseline\;" target="_blank">move their makerspace to Western Avenue</a>. You&#39\;ll have the opportunity to meet some amazing makers and ask questions.</span><br />\n&nbsp\;</div>\n<span style="color: rgb(29\, 33\, 41)\; font-family: &quot\;Helvetica Neue&quot\;\, Helvetica\, Arial\, sans-serif\; font-size: 14px\; white-space: pre-wrap\;">They are very close to reaching our fundraising goals. To help us raise $125\,000 before our April 30 closing date\, you can contribute here: </span><a data-lynx-mode="hover" data-lynx-uri="https://l.facebook.com/l.php?u=https%3A%2F%2Fwww.gofundme.com%2Ff%2Fsustain-lowell-makes%3Ffbclid%3DIwAR2YaYvudgpi1FXXf1JwXS4v3tAkQuvPvKbYO_cQvjjfIWBxbes22wwEYhA&amp\;h=AT30EDgdcGMACrdm1ysEPN4n7W2HY3ExFer9csHyq3t_y81Qrr_KPfU9uzO-rKdqQN-kQEIRIk4Axi6TE0OinKoKlk9j7bQrpmvldlT29BOx7POUVZE9jl8dnVJ9v-Sh5Mtm" href="https://www.gofundme.com/f/sustain-lowell-makes?fbclid=IwAR2YaYvudgpi1FXXf1JwXS4v3tAkQuvPvKbYO_cQvjjfIWBxbes22wwEYhA" rel="nofollow noopener" style="color: rgb(56\, 88\, 152)\; cursor: pointer\; text-decoration-line: none\; font-family: &quot\;Helvetica Neue&quot\;\, Helvetica\, Arial\, sans-serif\; font-size: 14px\; white-space: pre-wrap\;" target="_blank">https://www.gofundme.com/f/sustain-lowell-makes</a>
LOCATION:
UID:e.554.4455
SEQUENCE:3
DTSTAMP:20260419T204914Z
URL:https://business.greaterlowellcc.org/events/details/virtual-mix-mingle-at-lowell-makes-4455
END:VEVENT

END:VCALENDAR
