BEGIN:VCALENDAR
VERSION:2.0
PRODID:-//ChamberMaster//Event Calendar 2.0//EN
METHOD:PUBLISH
X-PUBLISHED-TTL:P3D
REFRESH-INTERVAL:P3D
CALSCALE:GREGORIAN
BEGIN:VEVENT
DTSTART:20200329T000000Z
DTEND:20200329T010000Z
X-MICROSOFT-CDO-ALLDAYEVENT:FALSE
SUMMARY:Virtual Happy Hour at the Athenian Corner
DESCRIPTION:Log in and join a Virtual Happy Hour hosted by Teddy & Yianni\, of Athenian Corner! From your own home\, enjoy your favorite cocktail with friends at our virtual bar which will be set up on a Zoom conference call. Don't worry! It's easy!\n\n\n\nTeddy\, your Virtual Bartender can offer drink suggestions and recipes based on what you have at home. He will also tell a bad/inappropriate joke or two\, just as he always does! We hope this online event will bring you some relief from these stressful times! We care about you all so please log in and enjoy yourself.\n\n\n\nIf you can afford to donate the price of your cocktail to the Athenian Corner through our Venmo account (@Athenian-Corner) we will certainly appreciate the donation. As our way of saying thank you\, participants will be invited to a special reception in their honor once business returns to normal.\n\n\n\nDIRECTIONS\n\n1. Sign up for a FREE account on Zoom at www.zoom.us\n\nYou can do this on any internet-connected device: phone\, laptop\, tablet...\n\n2. Download the Zoom app. to your device.\n\n3. Join the Virtual Happy Hour by clicking the link below - or call in using your smart-phone!\n\n\n\nJoin Zoom Meeting (with video) - https://zoom.us/j/793593295\n\nMeeting ID: 793 593 295\n\n\n\nOne tap mobile\n\n+19294362866\,\,793593295# US (New York)\n\n\n\nDial by your location\n\n+1 929 436 2866 US (New York)\n\n\n\nMeeting ID: 793 593 295
X-ALT-DESC;FMTTYPE=text/html:<div class="_63eu _63ev" style="box-sizing: border-box\; font-size: 14px\; max-height: none\; overflow: visible\; padding: 12px\; word-wrap: break-word\; font-family: &quot\;Helvetica Neue&quot\;\, Helvetica\, Arial\, sans-serif\; color: rgb(29\, 33\, 41)\;">\n<div class="_63ew" style="white-space: pre-wrap\; font-family: inherit\;"><span style="font-family: inherit\;">Log in and join a Virtual Happy Hour hosted by Teddy &amp\; Yianni\, of Athenian Corner! From your own home\, enjoy your favorite cocktail with friends at our virtual bar which will be set up on a Zoom conference call. Don&#39\;t worry! It&#39\;s easy!<br />\n<br />\nTeddy\, your Virtual Bartender can offer drink suggestions and recipes based on what you have at home. He will also tell a bad/inappropriate joke or two\, just as he always does! We hope this online event will bring you some relief from these stressful times! We care about you all so please log in and enjoy yourself.<br />\n<br />\nIf you can afford to donate the price of your cocktail to the Athenian Corner through our Venmo account (@Athenian-Corner) we will certainly appreciate the donation. As our way of saying thank you\, participants will be invited to a special reception in their honor once business returns to normal.<br />\n<br />\nDIRECTIONS<br />\n1. Sign up for a FREE account on Zoom at <a data-lynx-mode="hover" href="https://l.facebook.com/l.php?u=http%3A%2F%2Fwww.zoom.us%2F%3Ffbclid%3DIwAR3kFOdG_1YUaHRIilLvVQtascaXki1LrA4QFwrZYxKkfHsWoctHnW_HpGc&amp\;h=AT1uf9EhHUoC1ow9_pnDkvIZLyKjoB1TLIzNzOP4VGllmomamb9osr5vI6rWVq7-3DYCGG7qbRLIU1lxksRqo_iJFoYRNcxsuvOc2H--KNNMPBTEulvZmv4RafAgA-HVbDUt" rel="nofollow noopener" style="color: rgb(56\, 88\, 152)\; cursor: pointer\; text-decoration-line: none\; font-family: inherit\;" target="_blank">www.zoom.us</a><br />\nYou can do this on any internet-connected device: phone\, laptop\, tablet...<br />\n2. Download the Zoom app. to your device.<br />\n3. Join the Virtual Happy Hour by clicking the link below - or call in using your smart-phone!<br />\n<br />\nJoin Zoom Meeting (with video) - <a data-lynx-mode="hover" href="https://l.facebook.com/l.php?u=https%3A%2F%2Fzoom.us%2Fj%2F793593295%3Ffbclid%3DIwAR25BXGOSkQlABmi_tijDE1kd2IdGNO2apI11NrTeGVfGuBGPO1ttVhU4xM&amp\;h=AT2-pAZoUKv-rmyfnA0qg1dwJYTnZnZonpEM7UjB0W3sfze5QT-8_YFl7Lz5CMfSuNIrnQgDQHC7YU37hiXKoDCFgR63xHa2bteaa9JGP-_grSlFtu_Wl4HeKMHZ-HhBwTN9" rel="nofollow noopener" style="color: rgb(56\, 88\, 152)\; cursor: pointer\; text-decoration-line: none\; font-family: inherit\;" target="_blank">https://zoom.us/j/793593295</a><br />\nMeeting ID: 793 593 295<br />\n<br />\nOne tap mobile<br />\n+19294362866\,\,793593295# US (New York)<br />\n<br />\nDial by your location<br />\n+1 929 436 2866 US (New York)<br />\n<br />\nMeeting ID: 793 593 295</span></div>\n</div>\n
LOCATION:
UID:e.554.4463
SEQUENCE:3
DTSTAMP:20260419T192333Z
URL:https://business.greaterlowellcc.org/events/details/virtual-happy-hour-at-the-athenian-corner-4463
END:VEVENT

END:VCALENDAR
