BEGIN:VCALENDAR
VERSION:2.0
PRODID:-//ChamberMaster//Event Calendar 2.0//EN
METHOD:PUBLISH
X-PUBLISHED-TTL:P3D
REFRESH-INTERVAL:P3D
CALSCALE:GREGORIAN
BEGIN:VEVENT
DTSTART:20200701T150000Z
DTEND:20200701T160000Z
X-MICROSOFT-CDO-ALLDAYEVENT:FALSE
SUMMARY:Virtual Conversation with Mass Office of Business Development
DESCRIPTION:Join the Greater Lowell and Nashoba Valley Chambers for a Virtual Conversation with the Mass Office of Business Development on the next phase of business reopening\n\nGuest speakers Peter Milano (Senior Director) and Kevin Kuros (Regional Director/Central Mass).\n\n\n\nThank you to our 2020 Sponsors: Enterprise Bank\, Circle Health and Jeanne D'Arc Credit Union
X-ALT-DESC;FMTTYPE=text/html:<span style="color: rgb(85\, 85\, 85)\; font-family: Montserrat\, sans-serif\; font-size: 16px\;">Join the Greater Lowell and Nashoba Valley Chambers for a Virtual Conversation with the Mass Office of Business Development on the next phase of business reopening</span><br style="box-sizing: border-box\; color: rgb(85\, 85\, 85)\; font-family: Montserrat\, sans-serif\; font-size: 16px\;" />\n<span style="color: rgb(85\, 85\, 85)\; font-family: Montserrat\, sans-serif\; font-size: 16px\;">Guest speakers Peter Milano (Senior Director) and Kevin Kuros (Regional Director/Central Mass).<br />\n<br />\nThank you to our 2020 Sponsors: Enterprise Bank\, Circle Health and Jeanne D&#39\;Arc Credit Union</span><br />\n&nbsp\;
LOCATION:
UID:e.554.4567
SEQUENCE:3
DTSTAMP:20260419T141145Z
URL:https://business.greaterlowellcc.org/events/details/virtual-conversation-with-mass-office-of-business-development-4567
END:VEVENT

END:VCALENDAR
