BEGIN:VCALENDAR
VERSION:2.0
PRODID:-//ChamberMaster//Event Calendar 2.0//EN
METHOD:PUBLISH
X-PUBLISHED-TTL:P3D
REFRESH-INTERVAL:P3D
CALSCALE:GREGORIAN
BEGIN:VEVENT
DTSTART:20200430T150000Z
DTEND:20200430T160000Z
X-MICROSOFT-CDO-ALLDAYEVENT:FALSE
SUMMARY:Virtual Chamber Connect with Greater Lowell and Nashoba Valley Chambers
DESCRIPTION:Join us as we team up with the Nashoba Valley Chamber of Commerce for a networking event via ZOOM!\n\n\n\nThis virtual event will be limited to 10 GLCC and 10 NVCoC members so you have time to introduce yourself and talk about your business or organization.
X-ALT-DESC;FMTTYPE=text/html:Join us as we team up with the Nashoba Valley Chamber of Commerce for a networking event via ZOOM!<br />\n<br />\nThis virtual event will be limited to 10 GLCC and 10 NVCoC members so you have time to introduce yourself and talk about your business or organization.
LOCATION:ZOOM - we'll send you the link after your register.
UID:e.554.4515
SEQUENCE:3
DTSTAMP:20260419T192615Z
URL:https://business.greaterlowellcc.org/events/details/virtual-chamber-connect-with-greater-lowell-and-nashoba-valley-chambers-4515
END:VEVENT

END:VCALENDAR
