BEGIN:VCALENDAR
VERSION:2.0
PRODID:-//ChamberMaster//Event Calendar 2.0//EN
METHOD:PUBLISH
X-PUBLISHED-TTL:P3D
REFRESH-INTERVAL:P3D
CALSCALE:GREGORIAN
BEGIN:VEVENT
DTSTART:20200402T170000Z
DTEND:20200402T180000Z
X-MICROSOFT-CDO-ALLDAYEVENT:FALSE
SUMMARY:Virtual Chamber Connect with Greater Lowell and Nashoba Valley Chambers
DESCRIPTION:Join us as we team up with the Nashoba Valley Chamber of Commerce for a networking event via ZOOM!\n\n\n\nThis virtual event will be limited to 10 GLCC and 10 NVCoC members so you have time to introduce yourself and talk about your business or organization. We also want to know what changes your business has made as a result as the COVID-19 pandemic. \n\n\n\n*** Please note this is one of our only virtual events that is members-only. ***
X-ALT-DESC;FMTTYPE=text/html:Join us as we team up with the Nashoba Valley Chamber of Commerce for a networking event via ZOOM!<br />\n<br />\nThis virtual event will be limited to 10 GLCC and 10 NVCoC members so you have time to introduce yourself and talk about your business or organization. We also want to know what changes your business has made as a result as the COVID-19 pandemic.&nbsp\;<br />\n<br />\n*** Please note this is one of our only virtual events that is members-only. ***
LOCATION:ZOOM - we'll send you the link after your register.
UID:e.554.4461
SEQUENCE:3
DTSTAMP:20260419T174630Z
URL:https://business.greaterlowellcc.org/events/details/virtual-chamber-connect-with-greater-lowell-and-nashoba-valley-chambers-4461
END:VEVENT

END:VCALENDAR
