BEGIN:VCALENDAR
VERSION:2.0
PRODID:-//ChamberMaster//Event Calendar 2.0//EN
METHOD:PUBLISH
X-PUBLISHED-TTL:P3D
REFRESH-INTERVAL:P3D
CALSCALE:GREGORIAN
BEGIN:VEVENT
DTSTART:20200417T150000Z
DTEND:20200417T160000Z
X-MICROSOFT-CDO-ALLDAYEVENT:FALSE
SUMMARY:U.S. Congressman Seth Moulton Hosting Telephone Town Hall
DESCRIPTION:Register to receive a toll-free call by calling Congressman Moulton's office at (978) 531-1669  or email your name\, phone number and address in the 6th Congressional District to MoultonRSVP@gmail.com.
X-ALT-DESC;FMTTYPE=text/html:<div style="margin: 0px\; padding: 0px\; border: 0px\; font-variant-numeric: inherit\; font-variant-east-asian: inherit\; font-stretch: inherit\; font-size: 14px\; line-height: inherit\; font-family: Arial\, Verdana\, Helvetica\, sans-serif\; vertical-align: baseline\; color: rgb(26\, 25\, 26)\; text-align: center\;"><span style="font-family:tahoma\;"><span style="margin: 0px\; padding: 0px\; border: 0px\; font-style: inherit\; font-variant: inherit\; font-weight: bold\; font-stretch: inherit\; line-height: inherit\; vertical-align: baseline\; color: black\;">Register to receive a toll-free call by calling Congressman Moulton&#39\;s office at (978) 531-1669&nbsp\; or email&nbsp\;your&nbsp\;name\, phone number and address in the 6th Congressional District to&nbsp\;</span><a data-auth="NotApplicable" href="mailto:moultonrsvp@gmail.com" rel="noopener noreferrer" style="margin: 0px\; padding: 0px\; border: 0px\; font-variant: inherit\; font-weight: bold\; font-stretch: inherit\; line-height: inherit\; font-family: inherit\; vertical-align: baseline\; color: rgb(30\, 75\, 253)\;" target="_blank">MoultonRSVP@gmail.com</a><span style="margin: 0px\; padding: 0px\; border: 0px\; font-style: inherit\; font-variant: inherit\; font-weight: bold\; font-stretch: inherit\; line-height: inherit\; vertical-align: baseline\; color: black\;">.&nbsp\;</span></span></div>\n
LOCATION:
UID:e.554.4503
SEQUENCE:3
DTSTAMP:20260419T175037Z
URL:https://business.greaterlowellcc.org/events/details/u-s-congressman-seth-moulton-hosting-telephone-town-hall-4503
END:VEVENT

END:VCALENDAR
