BEGIN:VCALENDAR
VERSION:2.0
PRODID:-//ChamberMaster//Event Calendar 2.0//EN
METHOD:PUBLISH
X-PUBLISHED-TTL:P3D
REFRESH-INTERVAL:P3D
CALSCALE:GREGORIAN
BEGIN:VEVENT
DTSTART:20200422T140000Z
DTEND:20200422T153000Z
X-MICROSOFT-CDO-ALLDAYEVENT:FALSE
SUMMARY:Thriving in Your Work from Home Isolation
DESCRIPTION:Brought to you by SCORE Boston:\n\n \n\nThriving in Your Work from Home Isolation:\n\n\n\n\n	navigate some of the stresses of social isolation in a work-from-home environment\n	understand and manage their own predispositions as well as understanding what others may be experiencing\n	identify and encourage ways of reaching out socially within professional contexts\n	understand and break assumptions about seemingly introverted and extroverted behaviour\n	avoid anxiety for self and others in isolation\n	understand our own tendencies and the tendencies of others\; learn how better to reach out or pull back
X-ALT-DESC;FMTTYPE=text/html:<span style="font-size:14px\;"><span style="font-family:arial\;">Brought to you by SCORE Boston:</span></span><br />\n&nbsp\;\n<div class="cc-block" id="cc-block3" style="margin: 0px 0px 18px\; padding: 0px\; overflow: hidden\; font-family: Arial\, Helvetica\, sans-serif\; font-size: 12px\;">\n<h1 id="evm-event-title" style="margin: 0px\; padding: 0px\; font-size: 26px\; color: rgb(60\, 60\, 60)\; line-height: 31px\;"><span style="font-size:14px\;"><span style="font-family:arial\;"><span class="cc-var" style="color: rgb(0\, 0\, 128)\;" title="">Thriving in Your Work from Home Isolation:</span></span></span></h1>\n</div>\n\n<blockquote style="margin: 0px\; padding: 0px\; font-family: Arial\, Helvetica\, sans-serif\; font-size: 12px\; font-style: normal\; background-color: rgb(246\, 246\, 246)\;" type="cite">\n<ul style="margin: 18px 0px 18px 18px\; padding-right: 0px\; padding-left: 0px\; list-style-position: outside\; list-style-image: initial\;">\n	<li style="margin: 0px\; padding: 0px\; color: rgb(0\, 0\, 128)\;"><span style="font-size:14px\;"><span style="font-family:arial\;"><span title=""><strong>navigate some of the stresses of social isolation in a work-from-home environment</strong></span></span></span></li>\n	<li style="margin: 0px\; padding: 0px\; color: rgb(0\, 0\, 128)\;"><span style="font-size:14px\;"><span style="font-family:arial\;"><span title=""><strong>understand and manage their own predispositions as well as understanding what others may be experiencing</strong></span></span></span></li>\n	<li style="margin: 0px\; padding: 0px\; color: rgb(0\, 0\, 128)\;"><span style="font-size:14px\;"><span style="font-family:arial\;"><span title=""><strong>identify and encourage ways of reaching out socially within professional contexts</strong></span></span></span></li>\n	<li style="margin: 0px\; padding: 0px\; color: rgb(0\, 0\, 128)\;"><span style="font-size:14px\;"><span style="font-family:arial\;"><span title=""><strong>understand and break assumptions about seemingly introverted and extroverted behaviour</strong></span></span></span></li>\n	<li style="margin: 0px\; padding: 0px\; color: rgb(0\, 0\, 128)\;"><span style="font-size:14px\;"><span style="font-family:arial\;"><span title=""><strong>avoid anxiety for self and others in isolation</strong></span></span></span></li>\n	<li style="margin: 0px\; padding: 0px\; color: rgb(0\, 0\, 128)\;"><span style="font-size:14px\;"><span style="font-family:arial\;"><span title=""><strong>understand our own tendencies and the tendencies of others\; learn how better to reach out or pull back</strong></span></span></span></li>\n</ul>\n</blockquote>\n
LOCATION:
UID:e.554.4501
SEQUENCE:3
DTSTAMP:20260419T174223Z
URL:https://business.greaterlowellcc.org/events/details/thriving-in-your-work-from-home-isolation-4501
END:VEVENT

END:VCALENDAR
