BEGIN:VCALENDAR
VERSION:2.0
PRODID:-//ChamberMaster//Event Calendar 2.0//EN
METHOD:PUBLISH
X-PUBLISHED-TTL:P3D
REFRESH-INTERVAL:P3D
CALSCALE:GREGORIAN
BEGIN:VEVENT
DTSTART:20200430T193000Z
DTEND:20200430T203000Z
X-MICROSOFT-CDO-ALLDAYEVENT:FALSE
SUMMARY:Tele-Townhall with Congresswoman Lori Trahan
DESCRIPTION:Congresswoman Lori Trahan (MA-03) will host her fifth tele-town hall on the coronavirus pandemic this Thursday\, April 30th at 3:30 pm. She will be joined by special guests Lieutenant Governor Karyn Polito\, Small Business Administration New England Regional Administrator Wendell Davis\, and President and CEO of Lawrence General Hospital Deborah Wilson to answer YOUR questions about the ongoing coronavirus (COVID-19) pandemic and public health response.
X-ALT-DESC;FMTTYPE=text/html:<b style="box-sizing: inherit\; max-height: 1e+06px\; color: rgb(0\, 0\, 0)\; font-family: &quot\;Libre Franklin&quot\;\, &quot\;Helvetica Neue&quot\;\, Helvetica\, sans-serif\; font-size: 16px\;">Congresswoman Lori Trahan</b><span style="color: rgb(0\, 0\, 0)\; font-family: &quot\;Libre Franklin&quot\;\, &quot\;Helvetica Neue&quot\;\, Helvetica\, sans-serif\; font-size: 16px\;">&nbsp\;(MA-03) will host her fifth tele-town hall on the coronavirus pandemic this&nbsp\;</span><b style="box-sizing: inherit\; max-height: 1e+06px\; color: rgb(0\, 0\, 0)\; font-family: &quot\;Libre Franklin&quot\;\, &quot\;Helvetica Neue&quot\;\, Helvetica\, sans-serif\; font-size: 16px\;">Thursday\, April 30th&nbsp\;at 3:30 pm</b><span style="color: rgb(0\, 0\, 0)\; font-family: &quot\;Libre Franklin&quot\;\, &quot\;Helvetica Neue&quot\;\, Helvetica\, sans-serif\; font-size: 16px\;">. She will be joined by special guests Lieutenant Governor Karyn Polito\, Small Business Administration New England Regional Administrator Wendell Davis\, and&nbsp\;President and CEO of Lawrence General Hospital Deborah Wilson to answer YOUR questions about the ongoing coronavirus (COVID-19) pandemic and public health response.&nbsp\;</span>
LOCATION:
UID:e.554.4521
SEQUENCE:3
DTSTAMP:20260419T192908Z
URL:https://business.greaterlowellcc.org/events/details/tele-townhall-with-congresswoman-lori-trahan-4521
END:VEVENT

END:VCALENDAR
