BEGIN:VCALENDAR
VERSION:2.0
PRODID:-//ChamberMaster//Event Calendar 2.0//EN
METHOD:PUBLISH
X-PUBLISHED-TTL:P3D
REFRESH-INTERVAL:P3D
CALSCALE:GREGORIAN
BEGIN:VEVENT
DTSTART:20200416T191000Z
DTEND:20200416T200000Z
X-MICROSOFT-CDO-ALLDAYEVENT:FALSE
SUMMARY:Tele-Townhall with Congresswoman Lori Trahan
DESCRIPTION:Congresswoman Trahan will be joined by Secretary Rosalin Acosta and Dr. Ashish Jha to answer your #coronavirus questions.
X-ALT-DESC;FMTTYPE=text/html:<span style="color: rgb(28\, 30\, 33)\; font-family: system-ui\, -apple-system\, system-ui\, &quot\;.SFNSText-Regular&quot\;\, sans-serif\; font-size: 14px\;">Congresswoman Trahan will be joined by Secretary Rosalin Acosta and Dr. Ashish Jha to answer your&nbsp\;</span><a class="_58cn" data-ft="{&quot\;type&quot\;:104\,&quot\;tn&quot\;:&quot\;*N&quot\;}" href="https://www.facebook.com/hashtag/coronavirus?epa=HASHTAG&amp\;__xts__%5B0%5D=68.ARA50RhGWJU7nzsLBBufRPEZt-44GDmNEWb48TqHeAov7dijtvo92scSiyDTsJwva4_oMiuEaxFQtV5KxGEUjIPMbwDZNVVD-ZniRvJfTx4u3Jdf41R40rvAKpDWGyzR_fQZmu9Lt-thfyLkRGYFEL4h2qUd67yA0c_aWBgJ5dksu8rBRBShb4XukPU4ioBT87lCekwIpl9rXzHZHnIi3tJuzdRiuRLA2WDW4BoakQ8HP73AaA_fEFTCeK0M78eXv7N6-NRf4PTDbutMghj66h7VG-Wl5GKMwqhcXqom27Rgzh2johGOxuuquRfqSfCkoloKLtoYnjvClkk1ytzZEbX-F8v5ehLkotsXi9Gzk_PWXiS6rh6pIyCHo9LVflY7JCQ&amp\;__tn__=%2ANK%2AF" style="color: rgb(56\, 88\, 152)\; cursor: pointer\; text-decoration-line: none\; font-family: system-ui\, -apple-system\, system-ui\, &quot\;.SFNSText-Regular&quot\;\, sans-serif\; font-size: 14px\;">#coronavirus</a><span style="color: rgb(28\, 30\, 33)\; font-family: system-ui\, -apple-system\, system-ui\, &quot\;.SFNSText-Regular&quot\;\, sans-serif\; font-size: 14px\;">&nbsp\;questions.&#8236\;</span>
LOCATION:
UID:e.554.4502
SEQUENCE:3
DTSTAMP:20260419T192823Z
URL:https://business.greaterlowellcc.org/events/details/tele-townhall-with-congresswoman-lori-trahan-4502
END:VEVENT

END:VCALENDAR
