BEGIN:VCALENDAR
VERSION:2.0
PRODID:-//ChamberMaster//Event Calendar 2.0//EN
METHOD:PUBLISH
X-PUBLISHED-TTL:P3D
REFRESH-INTERVAL:P3D
CALSCALE:GREGORIAN
BEGIN:VEVENT
DTSTART:20200402T200000Z
DTEND:20200402T210000Z
X-MICROSOFT-CDO-ALLDAYEVENT:FALSE
SUMMARY:Tele-Townhall with Congresswoman Lori Trahan
DESCRIPTION:Last Thursday\, Congresswoman Traghan hosted a second tele-town hall on the pandemic. In light of the success of our recent events\, and the high volume of questions\, she's decided to host another tele-town hall.
X-ALT-DESC;FMTTYPE=text/html:<table cellpadding="0" cellspacing="0" style="box-sizing: inherit\; max-height: 1e+06px\; border-collapse: collapse\; border-spacing: 0px\; color: rgb(0\, 0\, 0)\; font-family: &quot\;Libre Franklin&quot\;\, &quot\;Helvetica Neue&quot\;\, Helvetica\, sans-serif\; font-size: 16px\;" width="100%">\n	<tbody style="box-sizing: inherit\; max-height: 1e+06px\;">\n		<tr style="box-sizing: inherit\; max-height: 1e+06px\;">\n			<td id="ctl00_ContentCell" style="box-sizing: inherit\; max-height: 1e+06px\;">\n			<div id="ctl00_ctl13_HeaderText" style="box-sizing: inherit\; max-height: 1e+06px\;">Last Thursday\, Congresswoman Traghan hosted a second tele-town hall&nbsp\;on the pandemic. In light of the success of our recent events\, and the high volume of questions\,&nbsp\;<strong style="box-sizing: inherit\; max-height: 1e+06px\;">she&#39\;s&nbsp\;decided to host another tele-town hall.</strong></div>\n			</td>\n		</tr>\n	</tbody>\n</table>\n
LOCATION:
UID:e.554.4473
SEQUENCE:3
DTSTAMP:20260419T174908Z
URL:https://business.greaterlowellcc.org/events/details/tele-townhall-with-congresswoman-lori-trahan-4473
END:VEVENT

END:VCALENDAR
