BEGIN:VCALENDAR
VERSION:2.0
PRODID:-//ChamberMaster//Event Calendar 2.0//EN
METHOD:PUBLISH
X-PUBLISHED-TTL:P3D
REFRESH-INTERVAL:P3D
CALSCALE:GREGORIAN
BEGIN:VEVENT
DTSTART:20200326T200000Z
DTEND:20200326T210000Z
X-MICROSOFT-CDO-ALLDAYEVENT:FALSE
SUMMARY:Tele-Townhall with Congresswoman Lori Trahan
DESCRIPTION:Congresswoman Lori Trahan will be joined by the Small Business Administration and Massachusetts-Based Health Care Experts
X-ALT-DESC;FMTTYPE=text/html:Congresswoman Lori Trahan will be joined by the Small Business Administration and Massachusetts-Based Health Care Experts
LOCATION:
UID:e.554.4459
SEQUENCE:3
DTSTAMP:20260419T192909Z
URL:https://business.greaterlowellcc.org/events/details/tele-townhall-with-congresswoman-lori-trahan-4459
END:VEVENT

END:VCALENDAR
