BEGIN:VCALENDAR
VERSION:2.0
PRODID:-//ChamberMaster//Event Calendar 2.0//EN
METHOD:PUBLISH
X-PUBLISHED-TTL:P3D
REFRESH-INTERVAL:P3D
CALSCALE:GREGORIAN
BEGIN:VEVENT
DTSTART;VALUE=DATE:20200428
DTEND;VALUE=DATE:20200429
TRANSP:TRANSPARENT
X-MICROSOFT-CDO-ALLDAYEVENT:TRUE
SUMMARY:Take Out Tuesdays
DESCRIPTION:The GLCC has teamed up with the City of Lowell for Take Out Tuesdays!\n\n\n\nSupport Lowell Restaurants and you could win gift cards and #Lowell apparel!\n\n\n\nStep 1: Order a takeout meal from a Lowell Restaurant\n\nStep 2: Take a pic of your meal\n\nStep 3: Post your pic with the name of the restaurant (be sure to tag them!) using hashtag #LowellTakeOut on Facebook\n\n\n\nEasy\, peasy and delicious!\n\n\n\nHere's the list of restaurants that the City put together as well as a list of our members who are open!
X-ALT-DESC;FMTTYPE=text/html:The GLCC has teamed up with the City of Lowell for Take Out Tuesdays!<br />\n<br />\nSupport Lowell Restaurants and you could win gift cards and #Lowell apparel!<br />\n<br />\nStep 1: Order a takeout meal from a Lowell Restaurant<br />\nStep 2: Take a pic of your meal<br />\nStep 3: Post your pic with the name of the restaurant (be sure to tag them!) using hashtag #LowellTakeOut on Facebook<br />\n<br />\nEasy\, peasy and delicious!<br />\n<br />\nHere&#39\;s the <a href="http://lowellma.gov/1411/Open-Restaurants?fbclid=IwAR1jOqRl3zpA4-QJuTFjaXM2KS3oPrBOETdXGEuo0yC9kdytMiGJBWuSj1k">list of restaurants that the City</a> put together as well as a<a href="https://greaterlowellcc.org/2020/03/support-our-local-restaurants-hours-take-out-info-etc/"> list of our members</a> who are open!
LOCATION:
UID:e.554.4522
SEQUENCE:3
DTSTAMP:20260419T191236Z
URL:https://business.greaterlowellcc.org/events/details/take-out-tuesdays-4522
END:VEVENT

END:VCALENDAR
