BEGIN:VCALENDAR
VERSION:2.0
PRODID:-//ChamberMaster//Event Calendar 2.0//EN
METHOD:PUBLISH
X-PUBLISHED-TTL:P3D
REFRESH-INTERVAL:P3D
CALSCALE:GREGORIAN
BEGIN:VEVENT
DTSTART:20200325T150000Z
DTEND:20200325T160000Z
X-MICROSOFT-CDO-ALLDAYEVENT:FALSE
SUMMARY:Staying Afloat Financially During This Crisis
DESCRIPTION:Brought to you by EforAll: How is your small business going to get through this when your revenues have dropped dramatically\, or even stopped completely?  What are your options? Do any of these grant or loan programs make sense for you? How do you handle your loyal employees---layoffs?  Furloughs? Should you stay open at all? We know you have questions\, so join us for this informative workshop with a CPA who is on the front lines working with clients every day.  \n \n\n(You can send your questions ahead of time to berkshire-county@eforall.org  or ask them live on the call)\n\n \n\nGuest Expert: \n\nLisa Raiche\, CPA of Bodhi Business Advisors\n\nBoard member and specialist for EforAll South Coast
X-ALT-DESC;FMTTYPE=text/html:<p dir="ltr" style="color: rgb(32\, 31\, 30)\; font-family: &quot\;Segoe UI&quot\;\, &quot\;Segoe UI Web (West European)&quot\;\, &quot\;Segoe UI&quot\;\, -apple-system\, system-ui\, Roboto\, &quot\;Helvetica Neue&quot\;\, sans-serif\; font-size: 15px\; margin-top: 0px\; margin-bottom: 0px\; line-height: 1.38\;"><u><span style="color:#0000CD\;"><span style="margin: 0px\; padding: 0px\; border: 0px\; font-style: inherit\; font-variant-ligatures: inherit\; font-variant-caps: inherit\; font-variant-numeric: normal\; font-variant-east-asian: normal\; font-weight: inherit\; font-stretch: inherit\; font-size: 12pt\; line-height: inherit\; font-family: Arial\; vertical-align: baseline\; background-color: transparent\; white-space: pre-wrap\;"><strong>Brought to you by <a href="https://eforall.org/">EforAll</a>:</strong></span></span></u><span style="margin: 0px\; padding: 0px\; border: 0px\; font-style: inherit\; font-variant-ligatures: inherit\; font-variant-caps: inherit\; font-variant-numeric: normal\; font-variant-east-asian: normal\; font-weight: inherit\; font-stretch: inherit\; font-size: 12pt\; line-height: inherit\; font-family: Arial\; vertical-align: baseline\; color: black\; background-color: transparent\; white-space: pre-wrap\;"> How is your small business going to get through this when your revenues have dropped dramatically\, or even stopped completely?&nbsp\; What are your options? Do any of these grant or loan programs make sense for you? How do you handle your loyal employees---layoffs?&nbsp\; Furloughs? Should you stay open at all? We know you have questions\, so join us for this informative workshop with a CPA who is on the front lines working with clients every day.&nbsp\;&nbsp\;</span></p>\n&nbsp\;\n\n<p dir="ltr" style="color: rgb(32\, 31\, 30)\; font-family: &quot\;Segoe UI&quot\;\, &quot\;Segoe UI Web (West European)&quot\;\, &quot\;Segoe UI&quot\;\, -apple-system\, system-ui\, Roboto\, &quot\;Helvetica Neue&quot\;\, sans-serif\; font-size: 15px\; margin-top: 0px\; margin-bottom: 0px\; line-height: 1.38\;"><span style="margin: 0px\; padding: 0px\; border: 0px\; font-style: italic\; font-variant-ligatures: inherit\; font-variant-caps: inherit\; font-variant-numeric: normal\; font-variant-east-asian: normal\; font-weight: inherit\; font-stretch: inherit\; font-size: 12pt\; line-height: inherit\; font-family: Arial\; vertical-align: baseline\; color: black\; background-color: transparent\; white-space: pre-wrap\;">(You can send your questions ahead of time to </span><a data-auth="NotApplicable" href="mailto:berkshire-county@eforall.org" rel="noopener noreferrer" style="margin: 0px\; padding: 0px\; border: 0px\; font: inherit\; vertical-align: baseline\; text-decoration-line: none\;" target="_blank"><span style="margin: 0px\; padding: 0px\; border: 0px\; font-style: italic\; font-variant-ligatures: inherit\; font-variant-caps: inherit\; font-variant-numeric: normal\; font-variant-east-asian: normal\; font-weight: inherit\; font-stretch: inherit\; font-size: 12pt\; line-height: inherit\; font-family: Arial\; vertical-align: baseline\; color: inherit\; background-color: transparent\; white-space: pre-wrap\; text-decoration-line: underline\;">berkshire-county@eforall.org</span></a><span style="margin: 0px\; padding: 0px\; border: 0px\; font-style: italic\; font-variant-ligatures: inherit\; font-variant-caps: inherit\; font-variant-numeric: normal\; font-variant-east-asian: normal\; font-weight: inherit\; font-stretch: inherit\; font-size: 12pt\; line-height: inherit\; font-family: Arial\; vertical-align: baseline\; color: black\; background-color: transparent\; white-space: pre-wrap\;">&nbsp\; or ask them live on the call)</span><br />\n&nbsp\;</p>\n\n<p dir="ltr" style="color: rgb(32\, 31\, 30)\; font-family: &quot\;Segoe UI&quot\;\, &quot\;Segoe UI Web (West European)&quot\;\, &quot\;Segoe UI&quot\;\, -apple-system\, system-ui\, Roboto\, &quot\;Helvetica Neue&quot\;\, sans-serif\; font-size: 15px\; margin-top: 0px\; margin-bottom: 0px\; line-height: 1.38\;"><span style="margin: 0px\; padding: 0px\; border: 0px\; font-style: inherit\; font-variant-ligatures: inherit\; font-variant-caps: inherit\; font-variant-numeric: normal\; font-variant-east-asian: normal\; font-weight: inherit\; font-stretch: inherit\; font-size: 12pt\; line-height: inherit\; font-family: Arial\; vertical-align: baseline\; color: black\; background-color: transparent\; white-space: pre-wrap\; text-decoration-line: underline\;">Guest Expert:</span><span style="margin: 0px\; padding: 0px\; border: 0px\; font-style: inherit\; font-variant-ligatures: inherit\; font-variant-caps: inherit\; font-variant-numeric: normal\; font-variant-east-asian: normal\; font-weight: inherit\; font-stretch: inherit\; font-size: 12pt\; line-height: inherit\; font-family: Arial\; vertical-align: baseline\; color: black\; background-color: transparent\; white-space: pre-wrap\; text-decoration-line: underline\;"> </span></p>\n\n<p dir="ltr" style="color: rgb(32\, 31\, 30)\; font-family: &quot\;Segoe UI&quot\;\, &quot\;Segoe UI Web (West European)&quot\;\, &quot\;Segoe UI&quot\;\, -apple-system\, system-ui\, Roboto\, &quot\;Helvetica Neue&quot\;\, sans-serif\; font-size: 15px\; margin-top: 0px\; margin-bottom: 0px\; line-height: 1.38\;"><span style="margin: 0px\; padding: 0px\; border: 0px\; font-style: inherit\; font-variant-ligatures: inherit\; font-variant-caps: inherit\; font-variant-numeric: normal\; font-variant-east-asian: normal\; font-weight: 700\; font-stretch: inherit\; font-size: 12pt\; line-height: inherit\; font-family: Arial\; vertical-align: baseline\; color: black\; background-color: transparent\; white-space: pre-wrap\;">Lisa Raiche\, CPA of Bodhi Business Advisors</span></p>\n\n<p dir="ltr" style="color: rgb(32\, 31\, 30)\; font-family: &quot\;Segoe UI&quot\;\, &quot\;Segoe UI Web (West European)&quot\;\, &quot\;Segoe UI&quot\;\, -apple-system\, system-ui\, Roboto\, &quot\;Helvetica Neue&quot\;\, sans-serif\; font-size: 15px\; margin-top: 0px\; margin-bottom: 0px\; line-height: 1.38\;"><span style="margin: 0px\; padding: 0px\; border: 0px\; font-style: inherit\; font-variant-ligatures: inherit\; font-variant-caps: inherit\; font-variant-numeric: normal\; font-variant-east-asian: normal\; font-weight: inherit\; font-stretch: inherit\; font-size: 12pt\; line-height: inherit\; font-family: Arial\; vertical-align: baseline\; color: black\; background-color: transparent\; white-space: pre-wrap\;">Board member and specialist for EforAll South Coast</span></p>\n
LOCATION:Via Zoom: https://zoom.us/j/541692526
UID:e.554.4458
SEQUENCE:3
DTSTAMP:20260419T205553Z
URL:https://business.greaterlowellcc.org/events/details/staying-afloat-financially-during-this-crisis-4458
END:VEVENT

END:VCALENDAR
