BEGIN:VCALENDAR
VERSION:2.0
PRODID:-//ChamberMaster//Event Calendar 2.0//EN
METHOD:PUBLISH
X-PUBLISHED-TTL:P3D
REFRESH-INTERVAL:P3D
CALSCALE:GREGORIAN
BEGIN:VEVENT
DTSTART:20200408T180000Z
DTEND:20200408T190000Z
X-MICROSOFT-CDO-ALLDAYEVENT:FALSE
SUMMARY:Social Media in a Time of Social Distancing
DESCRIPTION:Brought to you by UMass Lowell Alumni's Virtual Village. \n\n\n\nJoin us for a Zoom event with Danielle McFadden '07\, president and CEO of the Greater Lowell Chamber of Commerce. Learn how to use social media in the time of social distancing\, including methods for staying in touch with clients\, family and friends. Also\, learn techniques to use social media to keep your business or organization relevant during these times of uncertainty. We hope you can join us and share some of your tips as well during this free event!
X-ALT-DESC;FMTTYPE=text/html:Brought to you by <a href="https://www.alumni.uml.edu/s/1355/lowell/rd16/interior.aspx?sid=1355&amp\;gid=4&amp\;pgid=8298">UMass Lowell Alumni&#39\;s Virtual Village</a>.&nbsp\;<br />\n<br />\n<span style="color: rgb(29\, 33\, 41)\; font-family: system-ui\, -apple-system\, system-ui\, &quot\;.SFNSText-Regular&quot\;\, sans-serif\; font-size: 14px\; white-space: pre-wrap\;">Join us for a Zoom event with Danielle McFadden &rsquo\;07\, president and CEO of the Greater Lowell Chamber of Commerce. Learn how to use social media in the time of social distancing\, including methods for staying in touch with clients\, family and friends. Also\, learn techniques to use social media to keep your business or organization relevant during these times of uncertainty. We hope you can join us and share some of your tips as well during this free event!</span>
LOCATION:
UID:e.554.4465
SEQUENCE:3
DTSTAMP:20260419T175035Z
URL:https://business.greaterlowellcc.org/events/details/social-media-in-a-time-of-social-distancing-4465
END:VEVENT

END:VCALENDAR
