BEGIN:VCALENDAR
VERSION:2.0
PRODID:-//ChamberMaster//Event Calendar 2.0//EN
METHOD:PUBLISH
X-PUBLISHED-TTL:P3D
REFRESH-INTERVAL:P3D
CALSCALE:GREGORIAN
BEGIN:VEVENT
DTSTART:20200519T140000Z
DTEND:20200519T153000Z
X-MICROSOFT-CDO-ALLDAYEVENT:FALSE
SUMMARY:So\, You Want to Become a Consultant
DESCRIPTION:Many experienced managers and professionals have an expertise that businesses often seek from consultants. That expertise can be the basis for a solid solo consulting practice\, or the foundation for a consulting firm. But if you're interested in consulting as a career\, you need more than a field of expertise   you need clients.\n\nThis workshop will help you understand how to differentiate yourself\, how to market and sell\, how to create long-term client relationships\, and what to charge. We'll also cover the nuts and bolts of a consulting business   proposals\, websites\, setting up an LLC\, what type of insurance you need\, and how to structure both project-specific partnerships with other consultants and structure small consulting firms.\n\nPresenter: Michael Sandman\, ManagingPartner\, Fuld & Company -- competitive intelligence consulting firm\;\, Chairman\, SMI Systems\, Inc. - startup manufacturer of closed loop controlsystems\;\, COO Bainbridge\, sailcloth manufacturer & distributor\;\, Eli Sandman Co.\, family owned manufacturer of materials for composites
X-ALT-DESC;FMTTYPE=text/html:<p style="margin: 0px 0px 18px\; padding: 0px\; font-family: Arial\, Helvetica\, sans-serif\; font-size: 12px\; background-color: rgb(246\, 246\, 246)\;"><strong style="color: rgb(0\, 0\, 128)\;">Many experienced managers and professionals have an expertise that businesses often seek from consultants. That expertise can be the basis for a solid solo consulting practice\, or the foundation for a consulting firm. But if you&rsquo\;re interested in consulting as a career\, you need more than a field of expertise &mdash\; you need clients.</strong></p>\n\n<p style="margin: 0px 0px 18px\; padding: 0px\; font-family: Arial\, Helvetica\, sans-serif\; font-size: 12px\; background-color: rgb(246\, 246\, 246)\;"><span title="">This workshop will help you understand how to differentiate yourself\, how to market and sell\, how to create long-term client relationships\, and what to charge. We&rsquo\;ll also cover the nuts and bolts of a consulting business &mdash\; proposals\, websites\, setting up an LLC\, what type of insurance you need\, and how to structure both project-specific partnerships with other consultants and structure small consulting firms.</span></p>\n\n<p style="margin: 0px 0px 18px\; padding: 0px\; font-family: Arial\, Helvetica\, sans-serif\; font-size: 12px\; background-color: rgb(246\, 246\, 246)\;"><span title="">Presenter: Michael Sandman\,&nbsp\;<span title="">ManagingPartner\, Fuld &amp\; Company -- competitive intelligence consulting firm\;\, Chairman\, SMI Systems\, Inc. - startup manufacturer of closed loop controlsystems\;\, COO Bainbridge\, sailcloth manufacturer &amp\; distributor\;\, Eli Sandman Co.\, family owned manufacturer of materials for composites</span></span></p>\n
LOCATION:
UID:e.554.4513
SEQUENCE:3
DTSTAMP:20260419T160715Z
URL:https://business.greaterlowellcc.org/events/details/so-you-want-to-become-a-consultant-4513
END:VEVENT

END:VCALENDAR
