BEGIN:VCALENDAR
VERSION:2.0
PRODID:-//ChamberMaster//Event Calendar 2.0//EN
METHOD:PUBLISH
X-PUBLISHED-TTL:P3D
REFRESH-INTERVAL:P3D
CALSCALE:GREGORIAN
BEGIN:VEVENT
DTSTART:20200330T210000Z
DTEND:20200330T220000Z
X-MICROSOFT-CDO-ALLDAYEVENT:FALSE
SUMMARY:Small Business Relief Call with U.S. Senator Ed Markey
DESCRIPTION:Last week\, the Coronavirus Aid\, Relief\, and Economic Security Act (CARES Act) was signed into law to address the economic impacts of the current COVID-19 pandemic. U.S. Senator Ed Markey will be hosting a conference call Monday\, March 30th  to discuss the small business relief provisions included in the bill. Also on the call will be special guest\, Senator Ben Cardin (D-MD)\, the ranking Democrat on the Senate Small Business Committee\, to take questions.\n\n \n\nSenator Markey would like to hear directly from small business owners about their needs at this time.\n\n \n\nWhat: Small Business Relief Call with Senator Ed Markey\n\n \n\nDate: Monday\, March 30th\n\n \n\nTime: 5:00pm\n\n \n\nCall-in: 646-558-8656  \n\nMeeting ID: 242 963 688
X-ALT-DESC;FMTTYPE=text/html:<div style="color: rgb(66\, 56\, 55)\; font-family: Georgia\, &quot\;Times New Roman&quot\;\, Times\, serif\; font-size: 14px\; background-color: rgb(54\, 97\, 189)\;"><span style="font-size: 18px\; color: rgb(255\, 255\, 255)\;">Last week\, the&nbsp\;</span><span style="font-size: 18px\; color: rgb(255\, 255\, 255)\; font-style: italic\;">Coronavirus Aid\, Relief\, and Economic Security Act</span><span style="font-size: 18px\; color: rgb(255\, 255\, 255)\;">&nbsp\;(CARES Act) was signed into law to address the economic impacts of the current COVID-19 pandemic. U.S. Senator Ed Markey will be hosting a conference call&nbsp\;</span><span style="font-size: 18px\; color: rgb(255\, 255\, 255)\; font-weight: bold\;">Monday\, March 30</span><sup style="font-size: 18px\; color: rgb(255\, 255\, 255)\; font-weight: bold\; line-height: 0\;">th</sup><span style="font-size: 18px\; color: rgb(255\, 255\, 255)\;">&nbsp\;&nbsp\;to discuss the small business relief provisions included in the bill. Also on the call will be special guest\, Senator Ben Cardin (D-MD)\, the ranking Democrat on the Senate Small Business Committee\, to take questions.</span></div>\n\n<div style="color: rgb(66\, 56\, 55)\; font-family: Georgia\, &quot\;Times New Roman&quot\;\, Times\, serif\; font-size: 14px\; background-color: rgb(54\, 97\, 189)\;"><span style="font-size: 18px\; color: rgb(255\, 255\, 255)\;">&nbsp\;</span></div>\n\n<div style="color: rgb(66\, 56\, 55)\; font-family: Georgia\, &quot\;Times New Roman&quot\;\, Times\, serif\; font-size: 14px\; background-color: rgb(54\, 97\, 189)\;"><span style="font-size: 18px\; color: rgb(255\, 255\, 255)\;">Senator Markey would like to hear directly from small business owners about their needs at this time.</span></div>\n\n<div style="color: rgb(66\, 56\, 55)\; font-family: Georgia\, &quot\;Times New Roman&quot\;\, Times\, serif\; font-size: 14px\; background-color: rgb(54\, 97\, 189)\;"><span style="font-size: 18px\; color: rgb(255\, 255\, 255)\;">&nbsp\;</span></div>\n\n<div align="center" style="color: rgb(66\, 56\, 55)\; font-family: Georgia\, &quot\;Times New Roman&quot\;\, Times\, serif\; font-size: 14px\; background-color: rgb(54\, 97\, 189)\; text-align: center\;"><span style="font-size: 18px\; color: rgb(255\, 255\, 255)\; font-weight: bold\; text-decoration-line: underline\;">What:</span><span style="font-size: 18px\; color: rgb(255\, 255\, 255)\;">&nbsp\;Small Business Relief Call with Senator Ed Markey</span></div>\n\n<div align="center" style="color: rgb(66\, 56\, 55)\; font-family: Georgia\, &quot\;Times New Roman&quot\;\, Times\, serif\; font-size: 14px\; background-color: rgb(54\, 97\, 189)\; text-align: center\;"><span style="font-size: 18px\; color: rgb(255\, 255\, 255)\;">&nbsp\;</span></div>\n\n<div align="center" style="color: rgb(66\, 56\, 55)\; font-family: Georgia\, &quot\;Times New Roman&quot\;\, Times\, serif\; font-size: 14px\; background-color: rgb(54\, 97\, 189)\; text-align: center\;"><span style="font-size: 18px\; color: rgb(255\, 255\, 255)\; font-weight: bold\; text-decoration-line: underline\;">Date:</span><span style="font-size: 18px\; color: rgb(255\, 255\, 255)\; font-weight: bold\;">&nbsp\;</span><span style="font-size: 18px\; color: rgb(255\, 255\, 255)\;">Monday\, March 30th</span></div>\n\n<div align="center" style="color: rgb(66\, 56\, 55)\; font-family: Georgia\, &quot\;Times New Roman&quot\;\, Times\, serif\; font-size: 14px\; background-color: rgb(54\, 97\, 189)\; text-align: center\;"><span style="font-size: 18px\; color: rgb(255\, 255\, 255)\;">&nbsp\;</span></div>\n\n<div align="center" style="color: rgb(66\, 56\, 55)\; font-family: Georgia\, &quot\;Times New Roman&quot\;\, Times\, serif\; font-size: 14px\; background-color: rgb(54\, 97\, 189)\; text-align: center\;"><span style="font-size: 18px\; color: rgb(255\, 255\, 255)\; font-weight: bold\; text-decoration-line: underline\;">Time:</span><span style="font-size: 18px\; color: rgb(255\, 255\, 255)\;">&nbsp\;5:00pm</span></div>\n\n<div align="center" style="color: rgb(66\, 56\, 55)\; font-family: Georgia\, &quot\;Times New Roman&quot\;\, Times\, serif\; font-size: 14px\; background-color: rgb(54\, 97\, 189)\; text-align: center\;"><span style="font-size: 18px\; color: rgb(255\, 255\, 255)\;">&nbsp\;</span></div>\n\n<div align="center" style="color: rgb(66\, 56\, 55)\; font-family: Georgia\, &quot\;Times New Roman&quot\;\, Times\, serif\; font-size: 14px\; background-color: rgb(54\, 97\, 189)\; text-align: center\;"><span style="font-size: 18px\; color: rgb(255\, 255\, 255)\; font-weight: bold\; text-decoration-line: underline\;">Call-in:</span><span style="font-size: 18px\; color: rgb(255\, 255\, 255)\;">&nbsp\;646-558-8656&nbsp\;&nbsp\;</span></div>\n\n<div align="center" style="color: rgb(66\, 56\, 55)\; font-family: Georgia\, &quot\;Times New Roman&quot\;\, Times\, serif\; font-size: 14px\; background-color: rgb(54\, 97\, 189)\; text-align: center\;"><span style="font-size: 18px\; color: rgb(255\, 255\, 255)\; font-weight: bold\; text-decoration-line: underline\;">Meeting ID:</span><span style="font-size: 18px\; color: rgb(255\, 255\, 255)\;">&nbsp\;242 963 688&nbsp\;</span></div>\n
LOCATION:
UID:e.554.4468
SEQUENCE:3
DTSTAMP:20260419T192333Z
URL:https://business.greaterlowellcc.org/events/details/small-business-relief-call-with-u-s-senator-ed-markey-4468
END:VEVENT

END:VCALENDAR
