BEGIN:VCALENDAR
VERSION:2.0
PRODID:-//ChamberMaster//Event Calendar 2.0//EN
METHOD:PUBLISH
X-PUBLISHED-TTL:P3D
REFRESH-INTERVAL:P3D
CALSCALE:GREGORIAN
BEGIN:VEVENT
DTSTART:20200413T170000Z
DTEND:20200413T180000Z
X-MICROSOFT-CDO-ALLDAYEVENT:FALSE
SUMMARY:SBA Training Webinar: Economic Injury Disaster Loan (EIDL) and Paycheck Protection Program
DESCRIPTION:Presented in partnership with the Middlesex 3 Coalition\, The City of Lowell\, Massachusetts Office of Business Development and the Burlington Area Chamber of Commerce.\n\n \n\nLisa Gonzalez Welch of the SBA will present their (EIDL) Emergency Injury Disaster Loan Program and the (PPP) Paycheck Protection Program. Small businesses\, private non-profit organizations\, worker cooperatives\, sole proprietors\, independent contractors\, and tribal businesses\, all with fewer than 500 employees\, that have been financially impacted as a result of the Coronavirus (COVID-19) since Jan. 31\, 2020\, may qualify for Economic Injury Disaster Loans (EIDL) to meet financial obligations and operating expenses. Businesses that receive an EIDL between January 31\, 2020 and June 30\, 2020\, as a result of a COVID-19 disaster declaration\, are also eligible to apply for a Paycheck Protection Program (PPP) Loan or may refinance their EIDL into a PPP Loan. In either case\, the emergency EIDL grant award of up to $10\,000 will be subtracted from the amount forgiven in a PPP Loan.\n\n\n\n \n\n\n\nClick here for an overview of the PPP\n\n\n\nClick here for an overview of the EIDL\n\n\n\n \n\n\n\nThere is only 100 seats available for this webinar.\n\n\n\n \n\n\n\nWe will send conference call information before the event.
X-ALT-DESC;FMTTYPE=text/html:<em>Presented in partnership with the Middlesex 3 Coalition\, The City of Lowell\, Massachusetts Office of Business Development and the Burlington Area Chamber of Commerce.</em><br />\n&nbsp\;\n<div style="margin: 0px 0px 0px 22.5pt\; padding: 0px\; border: 0px\; font-variant-numeric: inherit\; font-variant-east-asian: inherit\; font-stretch: inherit\; font-size: 15px\; line-height: inherit\; font-family: &quot\;Segoe UI&quot\;\, &quot\;Segoe UI Web (West European)&quot\;\, &quot\;Segoe UI&quot\;\, -apple-system\, system-ui\, Roboto\, &quot\;Helvetica Neue&quot\;\, sans-serif\; vertical-align: baseline\; color: rgb(50\, 49\, 48)\;">\n<p align="center" style="font-size: 11pt\; font-family: Calibri\, sans-serif\; text-align: center\; margin: 0px 0px 3.75pt\;"><span style="margin: 0px\; padding: 0px\; border: 0px\; font-style: inherit\; font-variant: inherit\; font-weight: inherit\; font-stretch: inherit\; font-size: 12pt\; line-height: inherit\; font-family: Tahoma\, sans-serif\, serif\, EmojiFont\; vertical-align: baseline\; color: black\;">Lisa Gonzalez Welch of the SBA&nbsp\;will present their (EIDL)&nbsp\;<a data-auth="NotApplicable" href="http://r20.rs6.net/tn.jsp?t=fci9miabb.0.0.ejagghlab.0&amp\;id=preview&amp\;r=3&amp\;p=https%3A%2F%2Fwww.sba.gov%2Ffunding-programs%2Floans%2Fcoronavirus-relief-options%2Feconomic-injury-disaster-loan-emergency-advance" rel="noopener noreferrer" style="margin: 0px\; padding: 0px\; border: 0px\; font: inherit\; vertical-align: baseline\;" target="_blank">Emergency Injury Disaster Loan Program</a>&nbsp\;and the (PPP)&nbsp\;<a data-auth="NotApplicable" href="http://r20.rs6.net/tn.jsp?t=fci9miabb.0.0.ejagghlab.0&amp\;id=preview&amp\;r=3&amp\;p=https%3A%2F%2Fwww.sba.gov%2Ffunding-programs%2Floans%2Fcoronavirus-relief-options%2Fpaycheck-protection-program-ppp" rel="noopener noreferrer" style="margin: 0px\; padding: 0px\; border: 0px\; font: inherit\; vertical-align: baseline\;" target="_blank">Paycheck Protection Program</a>. Small businesses\, private non-profit organizations\, worker cooperatives\, sole proprietors\, independent contractors\, and tribal businesses\, all with fewer than 500 employees\, that have been financially impacted as a result of the Coronavirus (COVID-19) since Jan. 31\, 2020\, may qualify for Economic Injury Disaster Loans (EIDL) to meet financial obligations and operating expenses. Businesses that receive an EIDL between January 31\, 2020 and June 30\, 2020\, as a result of a COVID-19 disaster declaration\, are also eligible to apply for a Paycheck Protection Program (PPP) Loan or may refinance their EIDL into a PPP Loan. In either case\, the emergency EIDL grant award of up to $10\,000 will be subtracted from the amount forgiven in a PPP Loan.</span></p>\n</div>\n\n<div style="margin: 0px\; padding: 0px\; border: 0px\; font-variant-numeric: inherit\; font-variant-east-asian: inherit\; font-stretch: inherit\; font-size: 15px\; line-height: inherit\; font-family: &quot\;Segoe UI&quot\;\, &quot\;Segoe UI Web (West European)&quot\;\, &quot\;Segoe UI&quot\;\, -apple-system\, system-ui\, Roboto\, &quot\;Helvetica Neue&quot\;\, sans-serif\; vertical-align: baseline\; color: rgb(50\, 49\, 48)\;">\n<p align="center" style="font-size: 11pt\; font-family: Calibri\, sans-serif\; text-align: center\; margin: 0px 0px 3.75pt\;"><span style="margin: 0px\; padding: 0px\; border: 0px\; font-style: inherit\; font-variant: inherit\; font-weight: inherit\; font-stretch: inherit\; font-size: 12pt\; line-height: inherit\; font-family: Tahoma\, sans-serif\, serif\, EmojiFont\; vertical-align: baseline\; color: black\;">&nbsp\;</span></p>\n</div>\n\n<div style="margin: 0px\; padding: 0px\; border: 0px\; font-variant-numeric: inherit\; font-variant-east-asian: inherit\; font-stretch: inherit\; font-size: 15px\; line-height: inherit\; font-family: &quot\;Segoe UI&quot\;\, &quot\;Segoe UI Web (West European)&quot\;\, &quot\;Segoe UI&quot\;\, -apple-system\, system-ui\, Roboto\, &quot\;Helvetica Neue&quot\;\, sans-serif\; vertical-align: baseline\; color: rgb(50\, 49\, 48)\;">\n<p align="center" style="font-size: 11pt\; font-family: Calibri\, sans-serif\; text-align: center\; margin: 0px 0px 3.75pt\;"><span style="margin: 0px\; padding: 0px\; border: 0px\; font-style: inherit\; font-variant: inherit\; font-weight: inherit\; font-stretch: inherit\; font-size: 12pt\; line-height: inherit\; font-family: Tahoma\, sans-serif\, serif\, EmojiFont\; vertical-align: baseline\; color: black\;"><a data-auth="NotApplicable" href="http://r20.rs6.net/tn.jsp?t=fci9miabb.0.0.ejagghlab.0&amp\;id=preview&amp\;r=3&amp\;p=https%3A%2F%2Fwww.middlesex3.com%2Fwp-content%2Fuploads%2F2020%2F04%2FPPP-Overview.pdf" rel="noopener noreferrer" style="margin: 0px\; padding: 0px\; border: 0px\; font: inherit\; vertical-align: baseline\;" target="_blank">Click here</a>&nbsp\;for an overview of the PPP</span></p>\n</div>\n\n<div style="margin: 0px\; padding: 0px\; border: 0px\; font-variant-numeric: inherit\; font-variant-east-asian: inherit\; font-stretch: inherit\; font-size: 15px\; line-height: inherit\; font-family: &quot\;Segoe UI&quot\;\, &quot\;Segoe UI Web (West European)&quot\;\, &quot\;Segoe UI&quot\;\, -apple-system\, system-ui\, Roboto\, &quot\;Helvetica Neue&quot\;\, sans-serif\; vertical-align: baseline\; color: rgb(50\, 49\, 48)\;">\n<p align="center" style="font-size: 11pt\; font-family: Calibri\, sans-serif\; text-align: center\; margin: 0px 0px 3.75pt\;"><span style="margin: 0px\; padding: 0px\; border: 0px\; font-style: inherit\; font-variant: inherit\; font-weight: inherit\; font-stretch: inherit\; font-size: 12pt\; line-height: inherit\; font-family: Tahoma\, sans-serif\, serif\, EmojiFont\; vertical-align: baseline\; color: black\;"><a data-auth="NotApplicable" href="http://r20.rs6.net/tn.jsp?t=fci9miabb.0.0.ejagghlab.0&amp\;id=preview&amp\;r=3&amp\;p=https%3A%2F%2Fwww.sba.gov%2Ffunding-programs%2Floans%2Fcoronavirus-relief-options%2Feconomic-injury-disaster-loan-emergency-advance" rel="noopener noreferrer" style="margin: 0px\; padding: 0px\; border: 0px\; font: inherit\; vertical-align: baseline\;" target="_blank">Click here</a>&nbsp\;for an overview of the EIDL</span></p>\n</div>\n\n<div style="margin: 0px\; padding: 0px\; border: 0px\; font-variant-numeric: inherit\; font-variant-east-asian: inherit\; font-stretch: inherit\; font-size: 15px\; line-height: inherit\; font-family: &quot\;Segoe UI&quot\;\, &quot\;Segoe UI Web (West European)&quot\;\, &quot\;Segoe UI&quot\;\, -apple-system\, system-ui\, Roboto\, &quot\;Helvetica Neue&quot\;\, sans-serif\; vertical-align: baseline\; color: rgb(50\, 49\, 48)\;">\n<p align="center" style="font-size: 11pt\; font-family: Calibri\, sans-serif\; text-align: center\; margin: 0px 0px 3.75pt\;"><span style="margin: 0px\; padding: 0px\; border: 0px\; font-style: inherit\; font-variant: inherit\; font-weight: inherit\; font-stretch: inherit\; font-size: 12pt\; line-height: inherit\; font-family: Tahoma\, sans-serif\, serif\, EmojiFont\; vertical-align: baseline\; color: black\;">&nbsp\;</span></p>\n</div>\n\n<div style="margin: 0px\; padding: 0px\; border: 0px\; font-variant-numeric: inherit\; font-variant-east-asian: inherit\; font-stretch: inherit\; font-size: 15px\; line-height: inherit\; font-family: &quot\;Segoe UI&quot\;\, &quot\;Segoe UI Web (West European)&quot\;\, &quot\;Segoe UI&quot\;\, -apple-system\, system-ui\, Roboto\, &quot\;Helvetica Neue&quot\;\, sans-serif\; vertical-align: baseline\; color: rgb(50\, 49\, 48)\;">\n<p align="center" style="font-size: 11pt\; font-family: Calibri\, sans-serif\; text-align: center\; margin: 0px 0px 3.75pt\;"><strong><span style="margin: 0px\; padding: 0px\; border: 0px\; font-style: inherit\; font-variant: inherit\; font-weight: inherit\; font-stretch: inherit\; font-size: 12pt\; line-height: inherit\; font-family: Tahoma\, sans-serif\, serif\, EmojiFont\; vertical-align: baseline\; color: black\;">There is only 100 seats available for this webinar.</span></strong></p>\n</div>\n\n<div style="margin: 0px\; padding: 0px\; border: 0px\; font-variant-numeric: inherit\; font-variant-east-asian: inherit\; font-stretch: inherit\; font-size: 15px\; line-height: inherit\; font-family: &quot\;Segoe UI&quot\;\, &quot\;Segoe UI Web (West European)&quot\;\, &quot\;Segoe UI&quot\;\, -apple-system\, system-ui\, Roboto\, &quot\;Helvetica Neue&quot\;\, sans-serif\; vertical-align: baseline\; color: rgb(50\, 49\, 48)\;">\n<p align="center" style="font-size: 11pt\; font-family: Calibri\, sans-serif\; text-align: center\; margin: 0px 0px 3.75pt\;"><span style="margin: 0px\; padding: 0px\; border: 0px\; font-style: inherit\; font-variant: inherit\; font-weight: inherit\; font-stretch: inherit\; font-size: 12pt\; line-height: inherit\; font-family: Tahoma\, sans-serif\, serif\, EmojiFont\; vertical-align: baseline\; color: black\;">&nbsp\;</span></p>\n</div>\n\n<div style="margin: 0px 0px 0px 22.5pt\; padding: 0px\; border: 0px\; font-variant-numeric: inherit\; font-variant-east-asian: inherit\; font-stretch: inherit\; font-size: 15px\; line-height: inherit\; font-family: &quot\;Segoe UI&quot\;\, &quot\;Segoe UI Web (West European)&quot\;\, &quot\;Segoe UI&quot\;\, -apple-system\, system-ui\, Roboto\, &quot\;Helvetica Neue&quot\;\, sans-serif\; vertical-align: baseline\; color: rgb(50\, 49\, 48)\;">\n<p align="center" style="font-size: 11pt\; font-family: Calibri\, sans-serif\; text-align: center\; margin: 0px 0px 3.75pt\;"><span style="margin: 0px\; padding: 0px\; border: 0px\; font-style: inherit\; font-variant: inherit\; font-weight: inherit\; font-stretch: inherit\; font-size: 12pt\; line-height: inherit\; font-family: Tahoma\, sans-serif\, serif\, EmojiFont\; vertical-align: baseline\; color: black\;">We will send conference call information before the event.</span></p>\n</div>\n
LOCATION:
UID:e.554.4495
SEQUENCE:3
DTSTAMP:20260419T174403Z
URL:https://business.greaterlowellcc.org/events/details/sba-training-webinar-economic-injury-disaster-loan-eidl-and-paycheck-protection-program-4495
END:VEVENT

END:VCALENDAR
