BEGIN:VCALENDAR
VERSION:2.0
PRODID:-//ChamberMaster//Event Calendar 2.0//EN
METHOD:PUBLISH
X-PUBLISHED-TTL:P3D
REFRESH-INTERVAL:P3D
CALSCALE:GREGORIAN
BEGIN:VEVENT
DTSTART:20200930T150000Z
DTEND:20200930T160000Z
X-MICROSOFT-CDO-ALLDAYEVENT:FALSE
SUMMARY:SBA MA Presents: Federal Contracting Success For Small Businesses Webinar
DESCRIPTION:Are you looking for new opportunities to grow your small business? Do you have the capability to expand your customer base? Are you wondering how to gain a competitive advantage over the competition in your marketplace? Well wonder no more.\n\nPlease join the SBA Massachusetts District Office along with the Massachusetts Procurement Technical Assistance Center (PTAC) as we provide you with an introduction into the world of Federal Government Contracting for small businesses. This webinar will be the first in a series of contracting webinars that will help you identify the opportunities for business growth through government contracting as well as finding out if your business has the capability to seek out these opportunities.\n\nDuring this webinar you will learn about federal procurement and what resources are available to help your small business stand out. This webinar will include the following pieces of information:\n\n\n	Doing business with the Federal Government\n	Positioning your small business to succeed in acquiring contracting opportunities\n	Resources and tools to assist your small business with contracting opportunities\n	Success stories and best practices provided by government experts\n\n\n \n\nGuest Speakers will include:\n\nPeter Kontakos- Deputy District Director for the SBA's Massachusetts District Office\n\nNadine Boone- Assistant District Director of Business Development for the SBA's Massachusetts District Office\n\nMichelle Simoes- Procurement Specialist of the Massachusetts Procurement Technical Assistance Center\n\n \n\nPresentation Moderators:\n\nCarlos Hernandez and Dan Martiniello- Lender Relation Specialists for the SBA's Massachusetts District Office
X-ALT-DESC;FMTTYPE=text/html:<p style="margin: 0px\; padding: 0px\; color: rgb(111\, 114\, 135)\; font-size: 16px\; line-height: 1.5rem\; font-family: &quot\;Neue Plak&quot\;\, -apple-system\, system-ui\, Roboto\, &quot\;Helvetica Neue&quot\;\, Helvetica\, Tahoma\, Arial\, sans-serif\; letter-spacing: 0.5px\;"><span style="color:#000000\;"><span style="font-size:14px\;"><span style="font-family:arial\;">Are you looking for new opportunities to grow your small business? Do you have the capability to expand your customer base? Are you wondering how to gain a competitive advantage over the competition in your marketplace? Well wonder no more.</span></span></span></p>\n\n<p style="margin: 0px\; padding: 10px 0px 0px\; color: rgb(111\, 114\, 135)\; font-size: 16px\; line-height: 1.5rem\; font-family: &quot\;Neue Plak&quot\;\, -apple-system\, system-ui\, Roboto\, &quot\;Helvetica Neue&quot\;\, Helvetica\, Tahoma\, Arial\, sans-serif\; letter-spacing: 0.5px\;"><span style="color:#000000\;"><span style="font-size:14px\;"><span style="font-family:arial\;">Please join the SBA Massachusetts District Office along with the Massachusetts Procurement Technical Assistance Center (PTAC) as we provide you with an introduction into the world of Federal Government Contracting for small businesses. This webinar will be the first in a series of contracting webinars that will help you identify the opportunities for business growth through government contracting as well as finding out if your business has the capability to seek out these opportunities.</span></span></span></p>\n\n<p style="margin: 0px\; padding: 10px 0px 0px\; color: rgb(111\, 114\, 135)\; font-size: 16px\; line-height: 1.5rem\; font-family: &quot\;Neue Plak&quot\;\, -apple-system\, system-ui\, Roboto\, &quot\;Helvetica Neue&quot\;\, Helvetica\, Tahoma\, Arial\, sans-serif\; letter-spacing: 0.5px\;"><span style="color:#000000\;"><span style="font-size:14px\;"><span style="font-family:arial\;">During this webinar you will learn about federal procurement and what resources are available to help your small business stand out. This webinar will include the following pieces of information:</span></span></span></p>\n\n<ul style="margin: 0px\; padding-top: 10px\; padding-right: 0px\; padding-left: 2em\; list-style-position: initial\; list-style-image: initial\; color: rgb(111\, 114\, 135)\; font-size: 16px\; line-height: 1.5rem\; font-family: &quot\;Neue Plak&quot\;\, -apple-system\, system-ui\, Roboto\, &quot\;Helvetica Neue&quot\;\, Helvetica\, Tahoma\, Arial\, sans-serif\; letter-spacing: 0.5px\;">\n	<li style="margin: 0px\; padding: 0px\;"><span style="color:#000000\;"><span style="font-size:14px\;"><span style="font-family:arial\;">Doing business with the Federal Government</span></span></span></li>\n	<li style="margin: 0px\; padding: 5px 0px 0px\;"><span style="color:#000000\;"><span style="font-size:14px\;"><span style="font-family:arial\;">Positioning your small business to succeed in acquiring contracting opportunities</span></span></span></li>\n	<li style="margin: 0px\; padding: 5px 0px 0px\;"><span style="color:#000000\;"><span style="font-size:14px\;"><span style="font-family:arial\;">Resources and tools to assist your small business with contracting opportunities</span></span></span></li>\n	<li style="margin: 0px\; padding: 5px 0px 0px\;"><span style="color:#000000\;"><span style="font-size:14px\;"><span style="font-family:arial\;">Success stories and best practices provided by government experts</span></span></span></li>\n</ul>\n\n<p style="margin: 0px\; padding: 10px 0px 0px\; color: rgb(111\, 114\, 135)\; font-size: 16px\; line-height: 1.5rem\; font-family: &quot\;Neue Plak&quot\;\, -apple-system\, system-ui\, Roboto\, &quot\;Helvetica Neue&quot\;\, Helvetica\, Tahoma\, Arial\, sans-serif\; letter-spacing: 0.5px\;">&nbsp\;</p>\n\n<p style="margin: 0px\; padding: 10px 0px 0px\; color: rgb(111\, 114\, 135)\; font-size: 16px\; line-height: 1.5rem\; font-family: &quot\;Neue Plak&quot\;\, -apple-system\, system-ui\, Roboto\, &quot\;Helvetica Neue&quot\;\, Helvetica\, Tahoma\, Arial\, sans-serif\; letter-spacing: 0.5px\;"><span style="color:#000000\;"><span style="font-size:14px\;"><span style="font-family:arial\;"><span style="font-weight: 700\; padding-top: 0px\;">Guest Speakers will include:</span></span></span></span></p>\n\n<p style="margin: 0px\; padding: 10px 0px 0px\; color: rgb(111\, 114\, 135)\; font-size: 16px\; line-height: 1.5rem\; font-family: &quot\;Neue Plak&quot\;\, -apple-system\, system-ui\, Roboto\, &quot\;Helvetica Neue&quot\;\, Helvetica\, Tahoma\, Arial\, sans-serif\; letter-spacing: 0.5px\;"><span style="color:#000000\;"><span style="font-size:14px\;"><span style="font-family:arial\;"><span style="font-weight: 700\; padding-top: 0px\;">Peter Kontakos</span>- Deputy District Director for the SBA&#39\;s Massachusetts District Office</span></span></span></p>\n\n<p style="margin: 0px\; padding: 10px 0px 0px\; color: rgb(111\, 114\, 135)\; font-size: 16px\; line-height: 1.5rem\; font-family: &quot\;Neue Plak&quot\;\, -apple-system\, system-ui\, Roboto\, &quot\;Helvetica Neue&quot\;\, Helvetica\, Tahoma\, Arial\, sans-serif\; letter-spacing: 0.5px\;"><span style="color:#000000\;"><span style="font-size:14px\;"><span style="font-family:arial\;"><span style="font-weight: 700\; padding-top: 0px\;">Nadine Boone</span>- Assistant District Director of Business Development for the SBA&#39\;s Massachusetts District Office</span></span></span></p>\n\n<p style="margin: 0px\; padding: 10px 0px 0px\; color: rgb(111\, 114\, 135)\; font-size: 16px\; line-height: 1.5rem\; font-family: &quot\;Neue Plak&quot\;\, -apple-system\, system-ui\, Roboto\, &quot\;Helvetica Neue&quot\;\, Helvetica\, Tahoma\, Arial\, sans-serif\; letter-spacing: 0.5px\;"><span style="color:#000000\;"><span style="font-size:14px\;"><span style="font-family:arial\;"><span style="font-weight: 700\; padding-top: 0px\;">Michelle Simoes</span>- Procurement Specialist of the Massachusetts Procurement Technical Assistance Center</span></span></span></p>\n\n<p style="margin: 0px\; padding: 10px 0px 0px\; color: rgb(111\, 114\, 135)\; font-size: 16px\; line-height: 1.5rem\; font-family: &quot\;Neue Plak&quot\;\, -apple-system\, system-ui\, Roboto\, &quot\;Helvetica Neue&quot\;\, Helvetica\, Tahoma\, Arial\, sans-serif\; letter-spacing: 0.5px\;">&nbsp\;</p>\n\n<p style="margin: 0px\; padding: 10px 0px 0px\; color: rgb(111\, 114\, 135)\; font-size: 16px\; line-height: 1.5rem\; font-family: &quot\;Neue Plak&quot\;\, -apple-system\, system-ui\, Roboto\, &quot\;Helvetica Neue&quot\;\, Helvetica\, Tahoma\, Arial\, sans-serif\; letter-spacing: 0.5px\;"><span style="color:#000000\;"><span style="font-size:14px\;"><span style="font-family:arial\;"><span style="font-weight: 700\; padding-top: 0px\;">Presentation Moderators:</span></span></span></span></p>\n\n<p style="margin: 0px\; padding: 10px 0px 0px\; color: rgb(111\, 114\, 135)\; font-size: 16px\; line-height: 1.5rem\; font-family: &quot\;Neue Plak&quot\;\, -apple-system\, system-ui\, Roboto\, &quot\;Helvetica Neue&quot\;\, Helvetica\, Tahoma\, Arial\, sans-serif\; letter-spacing: 0.5px\;"><span style="color:#000000\;"><span style="font-size:14px\;"><span style="font-family:arial\;"><span style="font-weight: 700\; padding-top: 0px\;">Carlos Hernandez and Dan Martiniello</span>- Lender Relation Specialists for the SBA&#39\;s Massachusetts District Office</span></span></span></p>\n
LOCATION:
UID:e.554.4603
SEQUENCE:3
DTSTAMP:20260421T085555Z
URL:https://business.greaterlowellcc.org/events/details/sba-ma-presents-federal-contracting-success-for-small-businesses-webinar-4603
END:VEVENT

END:VCALENDAR
