BEGIN:VCALENDAR
VERSION:2.0
PRODID:-//ChamberMaster//Event Calendar 2.0//EN
METHOD:PUBLISH
X-PUBLISHED-TTL:P3D
REFRESH-INTERVAL:P3D
CALSCALE:GREGORIAN
BEGIN:VEVENT
DTSTART:20200430T140000Z
DTEND:20200430T150000Z
X-MICROSOFT-CDO-ALLDAYEVENT:FALSE
SUMMARY:SBA Economic Relief for Small Business - Current Information
DESCRIPTION:Brought to you by SCORE\n\n\n\nGiven by the SBA\, this webinar will cover any funding additions being offered to small businesses.  \n\n\n\nPresenter:\n\nNorman Eng\n\nPublic Affairs Specialist\n\nMassachusetts District Office\n\nU.S. Small Business Administration\n\nThere will be an opportunity to ask questions at the end.
X-ALT-DESC;FMTTYPE=text/html:<p style="margin: 0px 0px 18px\; padding: 0px\; font-family: Arial\, Helvetica\, sans-serif\; font-size: 12px\; background-color: rgb(246\, 246\, 246)\;"><span style="color:#000000\;"><span style="font-size:14px\;"><span style="font-family:arial\;"><span title=""><strong><span title="">Brought to you by SCORE<br />\n<br />\nGiven by the SBA\, this webinar will cover any funding additions being offered to small businesses.&nbsp\;&nbsp\;<br />\n<br />\nPresenter:</span></strong></span><br />\n<span style="background-color: rgb(246\, 246\, 246)\;">Norman Eng</span><br style="font-family: Arial\, Helvetica\, sans-serif\; font-size: 12px\; background-color: rgb(246\, 246\, 246)\;" />\n<span style="background-color: rgb(246\, 246\, 246)\;">Public Affairs Specialist</span><br style="font-family: Arial\, Helvetica\, sans-serif\; font-size: 12px\; background-color: rgb(246\, 246\, 246)\;" />\n<span style="background-color: rgb(246\, 246\, 246)\;">Massachusetts District Office</span><br style="font-family: Arial\, Helvetica\, sans-serif\; font-size: 12px\; background-color: rgb(246\, 246\, 246)\;" />\n<b style="font-family: Arial\, Helvetica\, sans-serif\; font-size: 12px\; background-color: rgb(246\, 246\, 246)\;">U.S. Small Business Administration</b></span></span></span></p>\n\n<p style="margin: 0px 0px 18px\; padding: 0px\; font-family: Arial\, Helvetica\, sans-serif\; font-size: 12px\; background-color: rgb(246\, 246\, 246)\;"><span style="color:#000000\;"><span style="font-size:14px\;"><span style="font-family:arial\;"><span title=""><strong>There will be an opportunity to ask questions at the end.&nbsp\;</strong></span></span></span></span></p>\n
LOCATION:
UID:e.554.4519
SEQUENCE:3
DTSTAMP:20260419T191704Z
URL:https://business.greaterlowellcc.org/events/details/sba-economic-relief-for-small-business-current-information-4519
END:VEVENT

END:VCALENDAR
