BEGIN:VCALENDAR
VERSION:2.0
PRODID:-//ChamberMaster//Event Calendar 2.0//EN
METHOD:PUBLISH
X-PUBLISHED-TTL:P3D
REFRESH-INTERVAL:P3D
CALSCALE:GREGORIAN
BEGIN:VEVENT
DTSTART:20200420T180000Z
DTEND:20200420T193000Z
X-MICROSOFT-CDO-ALLDAYEVENT:FALSE
SUMMARY:SBA Economic Relief for Small Business - Current Information
DESCRIPTION:Brought to you by SCORE Boston\n\nGiven by the SBA\, this webinar will cover the options afforded to Small Businesses from the CARES Act\n\nThere will be an opportunity to ask questions at the end. \n\nPresenter:\n\nOreste Varela\n\nBranch Manager\n\nSpringfield Massachusetts Office\n\nU.S. Small Business Administration
X-ALT-DESC;FMTTYPE=text/html:<p style="margin: 0px 0px 18px\; padding: 0px\; font-family: Arial\, Helvetica\, sans-serif\; font-size: 12px\; background-color: rgb(246\, 246\, 246)\;"><span style="font-family:arial\;"><span style="color: rgb(0\, 0\, 128)\;" title=""><strong><span style="font-size: 14pt\;" title=""><u>Brought to you by SCORE Boston</u><br />\nGiven by the SBA\, this webinar will cover the options afforded to Small Businesses from the CARES Act</span></strong></span></span></p>\n\n<p style="margin: 0px 0px 18px\; padding: 0px\; font-family: Arial\, Helvetica\, sans-serif\; font-size: 12px\; background-color: rgb(246\, 246\, 246)\;"><span style="font-family:arial\;"><span style="color: rgb(0\, 0\, 0)\; font-size: 12pt\;" title=""><strong>There will be an opportunity to ask questions at the end.&nbsp\;</strong></span></span></p>\n\n<p style="margin: 0px 0px 18px\; padding: 0px\; font-family: Arial\, Helvetica\, sans-serif\; font-size: 12px\; background-color: rgb(246\, 246\, 246)\;"><span style="font-family:arial\;"><strong>Presenter</strong>:<br />\n<span style="font-size: 12px\; background-color: rgb(246\, 246\, 246)\;">Oreste Varela</span><br style="font-family: Arial\, Helvetica\, sans-serif\; font-size: 12px\; background-color: rgb(246\, 246\, 246)\;" />\n<span style="font-size: 12px\; background-color: rgb(246\, 246\, 246)\;">Branch Manager</span><br style="font-family: Arial\, Helvetica\, sans-serif\; font-size: 12px\; background-color: rgb(246\, 246\, 246)\;" />\n<span style="font-size: 12px\; background-color: rgb(246\, 246\, 246)\;">Springfield Massachusetts Office</span><br style="font-family: Arial\, Helvetica\, sans-serif\; font-size: 12px\; background-color: rgb(246\, 246\, 246)\;" />\n<b style="font-family: Arial\, Helvetica\, sans-serif\; font-size: 12px\; background-color: rgb(246\, 246\, 246)\;">U.S. Small Business Administration</b></span></p>\n
LOCATION:
UID:e.554.4505
SEQUENCE:3
DTSTAMP:20260419T174402Z
URL:https://business.greaterlowellcc.org/events/details/sba-economic-relief-for-small-business-current-information-4505
END:VEVENT

END:VCALENDAR
