BEGIN:VCALENDAR
VERSION:2.0
PRODID:-//ChamberMaster//Event Calendar 2.0//EN
METHOD:PUBLISH
X-PUBLISHED-TTL:P3D
REFRESH-INTERVAL:P3D
CALSCALE:GREGORIAN
BEGIN:VEVENT
DTSTART:20200622T153000Z
DTEND:20200622T163000Z
X-MICROSOFT-CDO-ALLDAYEVENT:FALSE
SUMMARY:Resilient Leaders Business Planning Workshop
DESCRIPTION:How relevant is your original 2020 business planning amid the COVID -19 public health crisis and the phases to re-opening? In this dynamic and evolving environment\, many organizations and leaders are revisiting their business plans and goals. While some of us continue to have longer term plans and goals in place for this year or the next\, many are now determining objectives for the next 30-60 days. In this interactive workshop\, participants will have the opportunity to participate in guided facilitation to help each individual think through their current internal and external environments along with translating what that means to your planning going forward. Join us to help you build resiliency while bringing clarity and focus to your business planning!\n\n\n\nFacilitated by Virginia Crocker Timmins of Soundboard Advisors\, LLC.
X-ALT-DESC;FMTTYPE=text/html:<span style="color: rgb(0\, 0\, 0)\; font-family: Times\; font-size: medium\;">How relevant is your original 2020 business planning amid the COVID -19 public health crisis and the phases to re-opening? In this dynamic and evolving environment\, many organizations and leaders are revisiting their business plans and goals. While some of us continue to have longer term plans and goals in place for this year or the next\, many are now determining objectives for the next 30-60 days. In this interactive workshop\, participants will have the opportunity to participate in guided facilitation to help each individual think through their current internal and external environments along with translating what that means to your planning going forward. Join us to help you build resiliency while bringing clarity and focus to your business planning!<br />\n<br />\nFacilitated by Virginia Crocker Timmins of Soundboard Advisors\, LLC.</span>
LOCATION:
UID:e.554.4559
SEQUENCE:3
DTSTAMP:20260419T141049Z
URL:https://business.greaterlowellcc.org/events/details/resilient-leaders-business-planning-workshop-4559
END:VEVENT

END:VCALENDAR
