BEGIN:VCALENDAR
VERSION:2.0
PRODID:-//ChamberMaster//Event Calendar 2.0//EN
METHOD:PUBLISH
X-PUBLISHED-TTL:P3D
REFRESH-INTERVAL:P3D
CALSCALE:GREGORIAN
BEGIN:VEVENT
DTSTART:20200423T170000Z
DTEND:20200423T180000Z
X-MICROSOFT-CDO-ALLDAYEVENT:FALSE
SUMMARY:Remote Learning Tech Solutions
DESCRIPTION:COVID-19 has created global disruption on a scale not seen in the modern era. The education sector\, in particular\, has been deeply impacted. In fact\, a March 2020 report by the United Nations indicates that some 300 million schoolchildren worldwide unable to continue with school as a result of the outbreak. The domestic scope is just as daunting: In a single Seattle school district\, the virus has forced nearly 24\,000 students out of in-person classes. The solution many schools nationwide are turning to is remote learning. While some districts are well-prepared for the shift\, many find themselves without the needed technology to enable remote learning at all.\n\nJoin us on April 23 at 1 p.m. for "Education and Covid 19: Remote Learning Tech Solutions" a webinar from Comcast Business. We'll explore the current state of remote learning\, from both educational and technology infrastructure perspectives\; the current technology needs for educators\; how the ramp-up has gone thus far\; how networks and technologies will shift going forward\; and what the remote learning landscape may look like in the long term.\n\nPanelists:\n\nLenny Schad\, Chief Information & Innovation Officer - District Administration\n\nNelson Ortiz\, Executive Director National Sales Engineering at Comcast Business.
X-ALT-DESC;FMTTYPE=text/html:<p style="box-sizing: border-box\; margin: 0px\; font-size: 16px\; padding-top: 0px\; padding-right: 0px\; padding-left: 0px\; color: rgb(0\, 0\, 0)\; font-family: montserrat\, sans-serif\; padding-bottom: 1.5rem !important\;">COVID-19 has created global disruption on a scale not seen in the modern era. The education sector\, in particular\, has been deeply impacted. In fact\, a March 2020 report by the United Nations indicates that some 300 million schoolchildren worldwide unable to continue with school as a result of the outbreak. The domestic scope is just as daunting: In a single Seattle school district\, the virus has forced nearly 24\,000 students out of in-person classes. The solution many schools nationwide are turning to is remote learning. While some districts are well-prepared for the shift\, many find themselves without the needed technology to enable remote learning at all.</p>\n\n<p style="box-sizing: border-box\; margin: 0px\; font-size: 16px\; padding-top: 0px\; padding-right: 0px\; padding-left: 0px\; color: rgb(0\, 0\, 0)\; font-family: montserrat\, sans-serif\; padding-bottom: 1.5rem !important\;">Join us on April 23 at 1 p.m. for &ldquo\;Education and Covid 19: Remote Learning Tech Solutions&rdquo\; a webinar from Comcast Business. We&rsquo\;ll explore the current state of remote learning\, from both educational and technology infrastructure perspectives\; the current technology needs for educators\; how the ramp-up has gone thus far\; how networks and technologies will shift going forward\; and what the remote learning landscape may look like in the long term.</p>\n\n<p style="box-sizing: border-box\; margin: 0px\; font-size: 16px\; padding-top: 0px\; padding-right: 0px\; padding-left: 0px\; color: rgb(0\, 0\, 0)\; font-family: montserrat\, sans-serif\; padding-bottom: 1.5rem !important\;"><span style="box-sizing: border-box\; font-weight: bolder\;">Panelists:</span><br style="box-sizing: border-box\;" />\nLenny Schad\, Chief Information &amp\; Innovation Officer - District Administration<br style="box-sizing: border-box\;" />\nNelson Ortiz\, Executive Director National Sales Engineering at Comcast Business.</p>\n
LOCATION:
UID:e.554.4509
SEQUENCE:3
DTSTAMP:20260419T173004Z
URL:https://business.greaterlowellcc.org/events/details/remote-learning-tech-solutions-4509
END:VEVENT

END:VCALENDAR
