BEGIN:VCALENDAR
VERSION:2.0
PRODID:-//ChamberMaster//Event Calendar 2.0//EN
METHOD:PUBLISH
X-PUBLISHED-TTL:P3D
REFRESH-INTERVAL:P3D
CALSCALE:GREGORIAN
BEGIN:VEVENT
DTSTART:20200409T160000Z
DTEND:20200409T173000Z
X-MICROSOFT-CDO-ALLDAYEVENT:FALSE
SUMMARY:Relationship Marketing 101 - Creating a Gratitude Habit
DESCRIPTION:Learn how to create daily habits that will help you build better relationships with clients\, family and friends.\n\n\n\nBrought to you by Dot Richards from Cards by Dot powered by SendOut Cards
X-ALT-DESC;FMTTYPE=text/html:<span style="color:#000000\;"><span style="font-size:14px\;"><span style="letter-spacing: 0.5px\;">Learn how to create daily habits that will help you build better relationships with clients\, family and friends.<br>\n<br>\nBrought to you by Dot Richards from Cards by Dot powered by SendOut Cards</span></span></span><br>\n&nbsp\;
LOCATION:
UID:e.554.4469
SEQUENCE:3
DTSTAMP:20260419T191705Z
URL:https://business.greaterlowellcc.org/events/details/relationship-marketing-101-creating-a-gratitude-habit-4469
END:VEVENT

END:VCALENDAR
