BEGIN:VCALENDAR
VERSION:2.0
PRODID:-//ChamberMaster//Event Calendar 2.0//EN
METHOD:PUBLISH
X-PUBLISHED-TTL:P3D
REFRESH-INTERVAL:P3D
CALSCALE:GREGORIAN
BEGIN:VEVENT
DTSTART:20200603T150000Z
DTEND:20200603T160000Z
X-MICROSOFT-CDO-ALLDAYEVENT:FALSE
SUMMARY:Reaching a New Normal - A Journey of 1000 Steps
DESCRIPTION:In today's ever-changing landscape\, adaption is not an option but a must.  Today's planning requires the ability to pivot on the spot and demands both philosophy and process.  Returning to the life we knew before COVID-19 will be a journey spread over several years.  Even then\, it will not be what we knew.  Mindset and behavioral shifts will be necessary for owners\, employees\, vendors and customers alike leading to major cultural shifts within our society.  While we cannot predict the future\, we can look to the "signals within the noise" and plan accordingly.  This session will focus on:\n\n\n\n	Identifying the "signals within the noise"\n	Creating a proactive plan\n	Building in flexibility
X-ALT-DESC;FMTTYPE=text/html:<div style="margin: 0px\; padding: 0px\; font-family: Arial\, Helvetica\, sans-serif\; font-size: 12px\; background-color: rgb(228\, 228\, 227)\;">\n<div style="margin: 0px\; padding: 0px\; font-family: Arial\, Helvetica\, sans-serif\; font-size: 12px\; background-color: rgb(228\, 228\, 227)\;">\n<div style="margin: 0px\; padding: 0px\; font-family: Arial\, Helvetica\, sans-serif\; font-size: 12px\; background-color: rgb(228\, 228\, 227)\;">In today&#39\;s ever-changing landscape\, adaption is not an option but a must.&nbsp\; Today&#39\;s planning requires the ability to pivot on the spot and demands both philosophy and process.&nbsp\; Returning to the life we knew before COVID-19 will be a journey spread over several years.&nbsp\; Even then\, it will not be what we knew.&nbsp\; Mindset and behavioral shifts will be necessary for owners\, employees\, vendors and customers alike leading to major cultural shifts within our society.&nbsp\; While we cannot predict the future\, we can look to the &quot\;signals within the noise&quot\; and plan accordingly.&nbsp\; This session will focus on:</div>\n\n<div style="margin: 0px\; padding: 0px\; font-family: Arial\, Helvetica\, sans-serif\; font-size: 12px\; background-color: rgb(228\, 228\, 227)\;">\n<ul style="margin: 18px 0px 18px 18px\; padding-right: 0px\; padding-left: 0px\; list-style-position: outside\; list-style-image: initial\;">\n	<li style="margin: 0px\; padding: 0px\;">Identifying the &quot\;signals within the noise&quot\;</li>\n	<li style="margin: 0px\; padding: 0px\;">Creating a proactive plan</li>\n	<li style="margin: 0px\; padding: 0px\;">Building in flexibility</li>\n</ul>\n</div>\n</div>\n</div>\n
LOCATION:
UID:e.554.4536
SEQUENCE:3
DTSTAMP:20260419T141358Z
URL:https://business.greaterlowellcc.org/events/details/reaching-a-new-normal-a-journey-of-1000-steps-4536
END:VEVENT

END:VCALENDAR
