BEGIN:VCALENDAR
VERSION:2.0
PRODID:-//ChamberMaster//Event Calendar 2.0//EN
METHOD:PUBLISH
X-PUBLISHED-TTL:P3D
REFRESH-INTERVAL:P3D
CALSCALE:GREGORIAN
BEGIN:VEVENT
DTSTART:20200507T170000Z
DTEND:20200507T180000Z
X-MICROSOFT-CDO-ALLDAYEVENT:FALSE
SUMMARY:POSTPONED: Mega Mixer with NEAR and Nashoba Valley Chamber
DESCRIPTION:*** Due to low enrollment\, this event has been postponed. Stay tuned for a new date. ***\n\n\n\nJoin us along with the Nashoba Valley Chamber of Commerce and the Northeast Association of Realtors for a fun virtual networking experience! Hop from virtual table to virtual table to talk about your business and meet a whole new group of people! \n\n\n\nLimited to 50 people.
X-ALT-DESC;FMTTYPE=text/html:<strong>*** Due to low enrollment\, this event has been postponed. Stay tuned for a new date. ***</strong><br />\n<br />\nJoin us along with the Nashoba Valley Chamber of Commerce and the Northeast Association of Realtors for a fun virtual networking experience! Hop from virtual table to virtual table to talk about your business and meet a whole new group of people!&nbsp\;<br />\n<br />\nLimited to 50 people.
LOCATION:
UID:e.554.4531
SEQUENCE:3
DTSTAMP:20260419T160834Z
URL:https://business.greaterlowellcc.org/events/details/postponed-mega-mixer-with-near-and-nashoba-valley-chamber-4531
END:VEVENT

END:VCALENDAR
