BEGIN:VCALENDAR
VERSION:2.0
PRODID:-//ChamberMaster//Event Calendar 2.0//EN
METHOD:PUBLISH
X-PUBLISHED-TTL:P3D
REFRESH-INTERVAL:P3D
CALSCALE:GREGORIAN
BEGIN:VEVENT
DTSTART:20200227T210000Z
DTEND:20200227T230000Z
X-MICROSOFT-CDO-ALLDAYEVENT:FALSE
SUMMARY:Open House and Ribbon Cutting for Lowell Parks & Conservation Trust
DESCRIPTION:Please join Lowell Parks & Conservation Trust for an Open House & Ribbon Cutting to Celebrate their New Office Space!\n\n\n\nRibbon Cutting at 5:00pm\n\n	Help LP&CT launch their 30th Anniversary year!\n	Explore environmental education stations\n	See new paintings by Mark Romanowsky\n	Free raffle for a whitewater rafting trip!\n	Count fish seen on video at the fish ladder
X-ALT-DESC;FMTTYPE=text/html:Please join <a href="https://lowelllandtrust.org/">Lowell Parks &amp\; Conservation Trust </a>for an <a href="https://lowelllandtrust.org/lpct-open-house/">Open House &amp\; Ribbon Cutting</a> to Celebrate their New Office Space!<br />\n<br />\nRibbon Cutting at 5:00pm\n<ul>\n	<li>Help LP&amp\;CT launch their 30th Anniversary year!</li>\n	<li>Explore environmental education stations</li>\n	<li>See new paintings by Mark Romanowsky</li>\n	<li>Free raffle for a whitewater rafting trip!</li>\n	<li>Count fish seen on video at the fish ladder</li>\n</ul>\n
LOCATION:660 Suffolk Street\, Suite 335 Lowell\, MA
UID:e.554.4436
SEQUENCE:3
DTSTAMP:20260419T224522Z
URL:https://business.greaterlowellcc.org/events/details/open-house-and-ribbon-cutting-for-lowell-parks-conservation-trust-4436
END:VEVENT

END:VCALENDAR
