BEGIN:VCALENDAR
VERSION:2.0
PRODID:-//ChamberMaster//Event Calendar 2.0//EN
METHOD:PUBLISH
X-PUBLISHED-TTL:P3D
REFRESH-INTERVAL:P3D
CALSCALE:GREGORIAN
BEGIN:VEVENT
DTSTART:20200213T183000Z
DTEND:20200213T210000Z
X-MICROSOFT-CDO-ALLDAYEVENT:FALSE
SUMMARY:Office Hours at Billerica Town Hall
DESCRIPTION:2020 marks an exciting partnership for the Chamber as we welcome the Billerica Alliance under the GLCC umbrella. We worked hard over the course of 2019 to ensure that the Billerica community keeps its strong identity all while offering Billerica businesses and organizations the many benefits of being part of a large regional business organization! \n\n\n\nWhether you are located in Billerica or simply want to hear more about the Chamber (and us about you!) we hope that you'll come to see us! \n\n\n\nFor more information about our new partnership\, please click here.
X-ALT-DESC;FMTTYPE=text/html:<span style="color: rgb(67\, 66\, 66)\; font-family: &quot\;Open Sans&quot\;\, Arial\, sans-serif\; font-size: 16px\;">2020 marks an exciting partnership for the Chamber as we welcome the <a href="https://greaterlowellcc.org/groups/billerica/">Billerica Alliance</a> under the GLCC umbrella. We worked hard over the course of 2019 to ensure that the Billerica community keeps its strong identity all while offering Billerica businesses and organizations the many benefits of being part of a large regional business organization!&nbsp\;<br />\n<br />\nWhether you are located in Billerica or simply want to hear more about the Chamber (and us about you!) we hope that you&#39\;ll come to see us!&nbsp\;<br />\n<br />\nFor more information about our new partnership\, <a href="https://greaterlowellcc.org/groups/billerica/">please click here</a>.&nbsp\;</span>
LOCATION:Billerica Town Hall 365 Boston Road Planning and Community Development Office\, Room 105 Billerica\, MA 01821
UID:e.554.4414
SEQUENCE:3
DTSTAMP:20260419T224101Z
URL:https://business.greaterlowellcc.org/events/details/office-hours-at-billerica-town-hall-4414
END:VEVENT

END:VCALENDAR
