BEGIN:VCALENDAR
VERSION:2.0
PRODID:-//ChamberMaster//Event Calendar 2.0//EN
METHOD:PUBLISH
X-PUBLISHED-TTL:P3D
REFRESH-INTERVAL:P3D
CALSCALE:GREGORIAN
BEGIN:VEVENT
DTSTART:20200519T150000Z
DTEND:20200519T160000Z
X-MICROSOFT-CDO-ALLDAYEVENT:FALSE
SUMMARY:Nonprofit ZOOM
DESCRIPTION:Attention all nonprofits\, join us for another ZOOM meeting to talk about... well anything that you want! Nonprofits are facing a lot of uncertainty (and hard work) due to the COVID-19 pandemic and the Chamber wants to provide a space to share resources\, talk through ideas/issues\, etc.\n\n\n\nIf there's a specific topic you'd like to touch upon\, please let Danielle know.
X-ALT-DESC;FMTTYPE=text/html:Attention all nonprofits\, join us for another ZOOM meeting to talk about... well anything that you want! Nonprofits are facing a lot of uncertainty (and hard work) due to the COVID-19 pandemic and the Chamber wants to provide a space to share resources\, talk through ideas/issues\, etc.<br />\n<br />\nIf there&#39\;s a specific topic you&#39\;d like to touch upon\, please let <a href="mailto:dmcfadden@greaterlowellchamber.org?subject=Nonprofit%20Zoom">Danielle</a> know.
LOCATION:
UID:e.554.4545
SEQUENCE:3
DTSTAMP:20260419T155250Z
URL:https://business.greaterlowellcc.org/events/details/nonprofit-zoom-4545
END:VEVENT

END:VCALENDAR
