BEGIN:VCALENDAR
VERSION:2.0
PRODID:-//ChamberMaster//Event Calendar 2.0//EN
METHOD:PUBLISH
X-PUBLISHED-TTL:P3D
REFRESH-INTERVAL:P3D
CALSCALE:GREGORIAN
BEGIN:VEVENT
DTSTART:20200422T150000Z
DTEND:20200422T160000Z
X-MICROSOFT-CDO-ALLDAYEVENT:FALSE
SUMMARY:Nonprofit ZOOM
DESCRIPTION:Attention all nonprofits\, join us for a ZOOM meeting to talk about... well anything that you want! Nonprofits are facing a lot of uncertainty (and hard work) due to the COVID-19 pandemic and the Chamber wants to provide a space to share resources\, talk through ideas/issues\, etc.\n\n\n\nIf there's a specific topic you'd like to touch upon\, please let Danielle know.
X-ALT-DESC;FMTTYPE=text/html:Attention all nonprofits\, join us for a ZOOM meeting to talk about... well anything that you want! Nonprofits are facing a lot of uncertainty (and hard work) due to the COVID-19 pandemic and the Chamber wants to provide a space to share resources\, talk through ideas/issues\, etc.<br />\n<br />\nIf there&#39\;s a specific topic you&#39\;d like to touch upon\, please let <a href="mailto:dmcfadden@greaterlowellchamber.org?subject=Nonprofit%20Zoom">Danielle</a> know.
LOCATION:Join Zoom Meeting - https://zoom.us/j/92484014748 Meeting ID: 924 8401 4748 One tap mobile- +19294362866\,\,92484014748# US (New York) Dial by your location: +1 929 436 2866 US (New York) Meeting ID: 924 8401 4748
UID:e.554.4508
SEQUENCE:3
DTSTAMP:20260419T174225Z
URL:https://business.greaterlowellcc.org/events/details/nonprofit-zoom-4508
END:VEVENT

END:VCALENDAR
