BEGIN:VCALENDAR
VERSION:2.0
PRODID:-//ChamberMaster//Event Calendar 2.0//EN
METHOD:PUBLISH
X-PUBLISHED-TTL:P3D
REFRESH-INTERVAL:P3D
CALSCALE:GREGORIAN
BEGIN:VEVENT
DTSTART:20200410T160000Z
DTEND:20200410T170000Z
X-MICROSOFT-CDO-ALLDAYEVENT:FALSE
SUMMARY:NFIB Call with SBA and Secretary Kennealy
DESCRIPTION:Thank you to NFIB for inviting our members to participate in this very important call. We truly appreciate their partnership. \n\n\n\nDue to the COVID-19 public health emergency\, NFIB is taking steps to provide the most updated information to our members\,\n\nwhich includes engaging with agency officials.\n\n\n\nRobert "Bob" Nelson\, District Director\, U.S. SBA\, and Mike Kennealy\, Massachusetts Secretary of Housing and Economic Development would like to share about efforts related to\, but not limited to:\n\n\n\n	Paycheck Protection Program Loans\n	Economic Disaster Injury Loans\n	Grant Programs\n\n\n\n\n\n\nComments\, Questions\, and Answers\n\nAll call participants will be muted. Instructions for live comments and questions will be provided. If you would like to submit your question before the call so that the speakers have time to research if necessary\, contact  Elizabeth.Parks@NFIB.org.\n\n\n\nSharing your stories and questions is important to help government officials understand the economic impact of COVID-19 and in their decision making.\n\n\n\nResources\n\n\n	SBA\, Massachusetts District Office: https://www.sba.gov/offices/district/ma/boston.\n	Executive Office of Housing and Economic Development:  https://www.mass.gov/orgs/executive-office-of-housing-and-economic-development.\n	NFIB COVID-19 Resources: NFIB.com/Coronavirus.
X-ALT-DESC;FMTTYPE=text/html:<p align="center" style="color: rgb(32\, 31\, 30)\; font-family: &quot\;Segoe UI&quot\;\, &quot\;Segoe UI Web (West European)&quot\;\, &quot\;Segoe UI&quot\;\, -apple-system\, system-ui\, Roboto\, &quot\;Helvetica Neue&quot\;\, sans-serif\; font-size: 15px\; text-align: center\; line-height: 18pt\;"><span style="margin: 0px\; padding: 0px\; border: 0px\; font-style: inherit\; font-variant: inherit\; font-weight: inherit\; font-stretch: inherit\; font-size: 12pt\; line-height: inherit\; font-family: &quot\;Open Sans&quot\;\, sans-serif\; vertical-align: baseline\; color: black\;"><em><strong>Thank you to <a href="https://www.nfib.com/?mkt_tok=eyJpIjoiWWpJMk1HUmtOelkxTlRFNCIsInQiOiJ6TnR3N1pYS0NlaDdPNUwzQitBU2xRQ2ZWMDlcLyswZmRYaTZUUDVPXC9PTGU5SHpIM2M3R2NybWJXVjYrTXRZMEZVeE92UUlQSXIyUklzN20xN1lTdHV3PT0ifQ%3D%3D">NFIB</a> for inviting our members to participate in this very important call. We truly appreciate their partnership.&nbsp\;</strong></em><br />\n<br />\nDue to the COVID-19 public health emergency\, NFIB is taking steps to provide the most updated information to our members\,<br />\nwhich includes engaging with agency officials.<br />\n<br />\nRobert &quot\;Bob&quot\; Nelson\, District Director\, U.S. SBA\, and Mike Kennealy\, Massachusetts Secretary of Housing and Economic Development would like to share about efforts related to\, but not limited to:</span></p>\n\n<div style="margin: 0px\; padding: 0px\; border: 0px\; font-variant-numeric: inherit\; font-variant-east-asian: inherit\; font-stretch: inherit\; font-size: 15px\; line-height: inherit\; font-family: &quot\;Segoe UI&quot\;\, &quot\;Segoe UI Web (West European)&quot\;\, &quot\;Segoe UI&quot\;\, -apple-system\, system-ui\, Roboto\, &quot\;Helvetica Neue&quot\;\, sans-serif\; vertical-align: baseline\; color: rgb(32\, 31\, 30)\;">\n<ul type="disc">\n	<li style="color: black\; line-height: 18.75pt\;"><span style="margin: 0px\; padding: 0px\; border: 0px\; font-style: inherit\; font-variant: inherit\; font-weight: inherit\; font-stretch: inherit\; font-size: 12pt\; line-height: inherit\; font-family: &quot\;Open Sans&quot\;\, sans-serif\; vertical-align: baseline\; color: inherit\;">Paycheck Protection Program Loans</span></li>\n	<li style="color: black\; line-height: 18.75pt\;"><span style="margin: 0px\; padding: 0px\; border: 0px\; font-style: inherit\; font-variant: inherit\; font-weight: inherit\; font-stretch: inherit\; font-size: 12pt\; line-height: inherit\; font-family: &quot\;Open Sans&quot\;\, sans-serif\; vertical-align: baseline\; color: inherit\;">Economic Disaster Injury Loans</span></li>\n	<li style="color: black\; line-height: 18.75pt\;"><span style="margin: 0px\; padding: 0px\; border: 0px\; font-style: inherit\; font-variant: inherit\; font-weight: inherit\; font-stretch: inherit\; font-size: 12pt\; line-height: inherit\; font-family: &quot\;Open Sans&quot\;\, sans-serif\; vertical-align: baseline\; color: inherit\;">Grant Programs</span></li>\n</ul>\n</div>\n\n<div style="margin: 0px\; padding: 0px\; border: 0px\; font-variant-numeric: inherit\; font-variant-east-asian: inherit\; font-stretch: inherit\; font-size: 15px\; line-height: inherit\; font-family: &quot\;Segoe UI&quot\;\, &quot\;Segoe UI Web (West European)&quot\;\, &quot\;Segoe UI&quot\;\, -apple-system\, system-ui\, Roboto\, &quot\;Helvetica Neue&quot\;\, sans-serif\; vertical-align: baseline\; color: rgb(32\, 31\, 30)\;">\n<p style="line-height: 18.75pt\;"><br />\n<b><span style="margin: 0px\; padding: 0px\; border: 0px\; font-style: inherit\; font-variant: inherit\; font-weight: inherit\; font-stretch: inherit\; font-size: 12pt\; line-height: inherit\; font-family: &quot\;Open Sans&quot\;\, sans-serif\; vertical-align: baseline\; color: black\;"><strong><span style="margin: 0px\; padding: 0px\; border: 0px\; font-style: inherit\; font-variant: inherit\; font-weight: inherit\; font-stretch: inherit\; font-size: inherit\; line-height: inherit\; vertical-align: baseline\; color: inherit\;">Comments\, Questions\, and Answers</span></strong></span></b><br />\n<span style="margin: 0px\; padding: 0px\; border: 0px\; font-style: inherit\; font-variant: inherit\; font-weight: inherit\; font-stretch: inherit\; font-size: 12pt\; line-height: inherit\; font-family: &quot\;Open Sans&quot\;\, sans-serif\; vertical-align: baseline\; color: black\;">All call&nbsp\;participants will be muted. Instructions for&nbsp\;live comments&nbsp\;and questions will be provided. If you would like to submit your question before the call so that the speakers have time to research if necessary\, contact&nbsp\;&nbsp\;<a data-auth="NotApplicable" href="mailto:Elizabeth.Parks@NFIB.org" rel="noopener noreferrer" style="margin: 0px\; padding: 0px\; border: 0px\; font: inherit\; vertical-align: baseline\;" target="_blank">Elizabeth.Parks@NFIB.org</a>.<br />\n<br />\nSharing your stories and questions is important to help government officials understand the economic impact of COVID-19 and in their decision making.<br />\n<br />\n<strong><span style="margin: 0px\; padding: 0px\; border: 0px\; font-style: inherit\; font-variant: inherit\; font-weight: inherit\; font-stretch: inherit\; font-size: inherit\; line-height: inherit\; vertical-align: baseline\; color: inherit\;">Resources</span></strong></span></p>\n\n<ul type="disc">\n	<li style="color: black\; line-height: 18.75pt\;"><span style="margin: 0px\; padding: 0px\; border: 0px\; font-style: inherit\; font-variant: inherit\; font-weight: inherit\; font-stretch: inherit\; font-size: 12pt\; line-height: inherit\; font-family: &quot\;Open Sans&quot\;\, sans-serif\; vertical-align: baseline\; color: inherit\;">SBA\, Massachusetts District Office:&nbsp\;<a data-auth="NotApplicable" href="https://nam05.safelinks.protection.outlook.com/?url=http%3A%2F%2Femail.nfib.com%2FI000dS00700AF1200W0YM00&amp\;data=02%7C01%7Celizabeth.parks%40nfib.org%7C6427165fa64a4424091808d7da6430f4%7C5cd0a0cc694543ed87cb649f84121ea2%7C0%7C0%7C637217996161946567&amp\;sdata=idSjcI%2BPT4MKgGP%2BaZqOPr3zlNPrnjyHlDW7keBOWJQ%3D&amp\;reserved=0" rel="noopener noreferrer" style="margin: 0px\; padding: 0px\; border: 0px\; font: inherit\; vertical-align: baseline\;" target="_blank">https://www.sba.gov/offices/district/ma/boston</a>.</span></li>\n	<li style="color: black\; line-height: 18.75pt\;"><span style="margin: 0px\; padding: 0px\; border: 0px\; font-style: inherit\; font-variant: inherit\; font-weight: inherit\; font-stretch: inherit\; font-size: 12pt\; line-height: inherit\; font-family: &quot\;Open Sans&quot\;\, sans-serif\; vertical-align: baseline\; color: inherit\;">Executive Office of Housing and Economic Development:&nbsp\;&nbsp\;<a data-auth="NotApplicable" href="https://nam05.safelinks.protection.outlook.com/?url=http%3A%2F%2Femail.nfib.com%2FCY000B0e70WS0F102000M00&amp\;data=02%7C01%7Celizabeth.parks%40nfib.org%7C6427165fa64a4424091808d7da6430f4%7C5cd0a0cc694543ed87cb649f84121ea2%7C0%7C0%7C637217996161956563&amp\;sdata=KvqRMPCBigBMKSGk0%2B%2FvnAy0s1RmqUz7s1LUAGG8bIQ%3D&amp\;reserved=0" rel="noopener noreferrer" style="margin: 0px\; padding: 0px\; border: 0px\; font: inherit\; vertical-align: baseline\;" target="_blank">https://www.mass.gov/orgs/executive-office-of-housing-and-economic-development</a>.</span></li>\n	<li style="color: black\; line-height: 18.75pt\;"><span style="margin: 0px\; padding: 0px\; border: 0px\; font-style: inherit\; font-variant: inherit\; font-weight: inherit\; font-stretch: inherit\; font-size: 12pt\; line-height: inherit\; font-family: &quot\;Open Sans&quot\;\, sans-serif\; vertical-align: baseline\; color: inherit\;">NFIB COVID-19 Resources:&nbsp\;<a data-auth="NotApplicable" href="https://nam05.safelinks.protection.outlook.com/?url=http%3A%2F%2Femail.nfib.com%2FWS00CFY070f2M1000000W00&amp\;data=02%7C01%7Celizabeth.parks%40nfib.org%7C6427165fa64a4424091808d7da6430f4%7C5cd0a0cc694543ed87cb649f84121ea2%7C0%7C0%7C637217996161956563&amp\;sdata=g%2FvYsplwzB1Grmpl8XN%2BvvfbM8jH4g67geoE6vLFmGQ%3D&amp\;reserved=0" rel="noopener noreferrer" style="margin: 0px\; padding: 0px\; border: 0px\; font: inherit\; vertical-align: baseline\;" target="_blank">NFIB.com/Coronavirus</a>.</span></li>\n</ul>\n</div>\n
LOCATION:Dial-in: +1 629-255-0324 Conference ID: 167 482 120#
UID:e.554.4494
SEQUENCE:3
DTSTAMP:20260419T191957Z
URL:https://business.greaterlowellcc.org/events/details/nfib-call-with-sba-and-secretary-kennealy-4494
END:VEVENT

END:VCALENDAR
