BEGIN:VCALENDAR
VERSION:2.0
PRODID:-//ChamberMaster//Event Calendar 2.0//EN
METHOD:PUBLISH
X-PUBLISHED-TTL:P3D
REFRESH-INTERVAL:P3D
CALSCALE:GREGORIAN
BEGIN:VEVENT
DTSTART:20200520T140000Z
DTEND:20200520T150000Z
X-MICROSOFT-CDO-ALLDAYEVENT:FALSE
SUMMARY:Multiply Your Small Business Success with Public Speaking even online
DESCRIPTION:Brought to you by SCORE Boston\nHow to leverage public speaking to get in front of your ideal clients & win them over once you're on stage (virtual or in-person). Hint: The first sale is to yourself!\n\nAs a small business owner\, you benefit greatly by improving your public speakingskills\, online or in person. Whether you're presenting to a group of potentialclients about your service offerings or pitching to investors or lenders\, you needto be effective in getting your message across.Common concerns you might face before & during a presentation can include:Do I come across as knowledgeable and credible? Am I being engaging enoughand generating enough interest in my prospects? Can they tell I'm nervous? CanI answer questions convincingly? Do I sound too "salesy"?You will receive effective tools to bypass your inner critic and allow yourauthentic and most confident self to shine through.Break through to a new level of public speaking that will get you noticed!\n\nPresenter: Mary Cheyne\, MBA\, has trained over 15\,000 people in over 25 cities around the worldand has coached hundreds of individuals on how to communicate clearly andauthentically in front of audiences. She taught communications-related classes atNortheastern University in Boston for 7 years. Mary is a Tedx speaker and the author ofthe Amazon Best Selling book "Present" Yourself in Public Speaking. Mary is the 2009World Championship of Public Speaking second place winner out of 25\,000 contestantsfrom 14 countries.
X-ALT-DESC;FMTTYPE=text/html:Brought to you by SCORE Boston\n<p style="margin: 0px 0px 18px\; padding: 0px\; font-family: Arial\, Helvetica\, sans-serif\; font-size: 12px\; background-color: rgb(246\, 246\, 246)\;"><span style="color: rgb(0\, 0\, 128)\; font-size: 12pt\;" title=""><strong>How to leverage public speaking to get in front of your ideal clients &amp\; win them over once you&rsquo\;re on stage (virtual or in-person). Hint: The first sale is to yourself!</strong></span></p>\n\n<p style="margin: 0px 0px 18px\; padding: 0px\; font-family: Arial\, Helvetica\, sans-serif\; font-size: 12px\; background-color: rgb(246\, 246\, 246)\;"><span style="color: rgb(0\, 51\, 0)\;" title="">As a small business owner\, you benefit greatly by improving your public speakingskills\, online or in person. Whether you&rsquo\;re presenting to a group of potentialclients about your service offerings or pitching to investors or lenders\, you needto be effective in getting your message across.Common concerns you might face before &amp\; during a presentation can include:Do I come across as knowledgeable and credible? Am I being engaging enoughand generating enough interest in my prospects? Can they tell I&rsquo\;m nervous? CanI answer questions convincingly? Do I sound too &ldquo\;salesy&rdquo\;?You will receive effective tools to bypass your inner critic and allow yourauthentic and most confident self to shine through.Break through to a new level of public speaking that will get you noticed!</span></p>\n\n<p style="margin: 0px 0px 18px\; padding: 0px\; font-family: Arial\, Helvetica\, sans-serif\; font-size: 12px\; background-color: rgb(246\, 246\, 246)\;">Presenter:&nbsp\;Mary Cheyne\, MBA\, has trained over 15\,000 people in over 25 cities around the worldand has coached hundreds of individuals on how to communicate clearly andauthentically in front of audiences. She taught communications-related classes atNortheastern University in Boston for 7 years. Mary is a Tedx speaker and the author ofthe Amazon Best Selling book &ldquo\;Present&rdquo\; Yourself in Public Speaking. Mary is the 2009World Championship of Public Speaking second place winner out of 25\,000 contestantsfrom 14 countries.</p>\n
LOCATION:
UID:e.554.4548
SEQUENCE:3
DTSTAMP:20260419T160633Z
URL:https://business.greaterlowellcc.org/events/details/multiply-your-small-business-success-with-public-speaking-even-online-4548
END:VEVENT

END:VCALENDAR
