BEGIN:VCALENDAR
VERSION:2.0
PRODID:-//ChamberMaster//Event Calendar 2.0//EN
METHOD:PUBLISH
X-PUBLISHED-TTL:P3D
REFRESH-INTERVAL:P3D
CALSCALE:GREGORIAN
BEGIN:VEVENT
DTSTART:20200212T133000Z
DTEND:20200212T150000Z
X-MICROSOFT-CDO-ALLDAYEVENT:FALSE
SUMMARY:Mix and Mingle at the Arbors
DESCRIPTION:Join us for a Valentine's Day-themed mixer at the Arbors Assisted Living at Dracut! Come see their beautiful new facility and make some great connections.\n\n\n\nGreater Lowell Chamber Gives: This month we are collecting children's pajamas for DCF (Department of Children and Families). You can bring them to any Chamber event\, drop them off at (or ship them to) the Chamber office or Marshalls Autobody Experts and Marshall's Auto Sales (128 Pond Street - Billerica\, MA 01821). If your office would like to be a drop off location\, please let us know and we'll add you on the website.
X-ALT-DESC;FMTTYPE=text/html:Join us for a Valentine&#39\;s Day-themed mixer at the <a href="https://arborsassistedliving.com/locations/dracut/">Arbors Assisted Living at Dracut</a>! Come see their beautiful new facility and make some great connections.<br />\n<br />\n<span style="font-size: 14px\;"><span style="font-family: arial\;"><span style="color: rgb(0\, 0\, 128)\;"><em><u><strong>Greater Lowell Chamber Gives:</strong></u></em>&nbsp\;This month we are collecting children&#39\;s pajamas for DCF (Department of Children and Families). You can bring them to any Chamber event\, drop them off at (or ship them to) the Chamber office or Marshalls Autobody Experts and Marshall&#39\;s Auto Sales (128 Pond Street - Billerica\, MA 01821).&nbsp\;</span></span></span><span style="color: rgb(0\, 0\, 128)\;">If your office would like to be a drop off location\,&nbsp\;</span><a href="mailto:dmcfadden@greaterlowellchamber.org?subject=Greater%20Lowell%20Chamber%20Gives"><span style="color: rgb(0\, 0\, 128)\;">please let us know</span></a><span style="color: rgb(0\, 0\, 128)\;">&nbsp\;and we&#39\;ll add you on the website.</span>
LOCATION:The Arbors at Dracut 21 Broadway Road Dracut\, MA
UID:e.554.4428
SEQUENCE:3
DTSTAMP:20260419T225457Z
URL:https://business.greaterlowellcc.org/events/details/mix-and-mingle-at-the-arbors-4428
END:VEVENT

END:VCALENDAR
