BEGIN:VCALENDAR
VERSION:2.0
PRODID:-//ChamberMaster//Event Calendar 2.0//EN
METHOD:PUBLISH
X-PUBLISHED-TTL:P3D
REFRESH-INTERVAL:P3D
CALSCALE:GREGORIAN
BEGIN:VEVENT
DTSTART:20200225T220000Z
DTEND:20200226T003000Z
X-MICROSOFT-CDO-ALLDAYEVENT:FALSE
SUMMARY:Mardi Gras Bingo
DESCRIPTION:Please join us at our 3rd Annual Mardi Gras Bingo for an evening of fun\, food and  Bingo! All are welcome to join us!\n\n\n\n5:00-6:00pm: Networking/Socializing\n\n6:00-7:30pm: Bingo \n\n\n\nGrand Prize: YETI Cooler\n\nOther Prizes: Gift certificates\, scratch tickets and more!
X-ALT-DESC;FMTTYPE=text/html:<span style="font-size:14px\;"><span style="font-family:arial\;"><span style="color: rgb(67\, 66\, 66)\;">Please join us at our 3rd Annual Mardi Gras Bingo for an evening of fun\, food and&hellip\; Bingo!&nbsp\;<strong>All are welcome to join us!</strong></span><br />\n<br />\n5:00-6:00pm: Networking/Socializing<br />\n6:00-7:30pm: Bingo&nbsp\;<br />\n<br />\nGrand Prize: YETI Cooler<br />\nOther Prizes: Gift certificates\, scratch tickets and more!&nbsp\;</span></span>
LOCATION:Four Oaks Country Club 1 Clubhouse Lane Dracut\, MA
UID:e.554.4418
SEQUENCE:3
DTSTAMP:20260420T131003Z
URL:https://business.greaterlowellcc.org/events/details/mardi-gras-bingo-4418
END:VEVENT

END:VCALENDAR
